BEGIN:VCALENDAR
VERSION:2.0
PRODID:-//NCC - ECPv6.15.20//NONSGML v1.0//EN
CALSCALE:GREGORIAN
METHOD:PUBLISH
X-ORIGINAL-URL:https://nccagent.com
X-WR-CALDESC:Events for NCC
REFRESH-INTERVAL;VALUE=DURATION:PT1H
X-Robots-Tag:noindex
X-PUBLISHED-TTL:PT1H
BEGIN:VTIMEZONE
TZID:America/New_York
BEGIN:DAYLIGHT
TZOFFSETFROM:-0500
TZOFFSETTO:-0400
TZNAME:EDT
DTSTART:20220313T070000
END:DAYLIGHT
BEGIN:STANDARD
TZOFFSETFROM:-0400
TZOFFSETTO:-0500
TZNAME:EST
DTSTART:20221106T060000
END:STANDARD
BEGIN:DAYLIGHT
TZOFFSETFROM:-0500
TZOFFSETTO:-0400
TZNAME:EDT
DTSTART:20230312T070000
END:DAYLIGHT
BEGIN:STANDARD
TZOFFSETFROM:-0400
TZOFFSETTO:-0500
TZNAME:EST
DTSTART:20231105T060000
END:STANDARD
BEGIN:DAYLIGHT
TZOFFSETFROM:-0500
TZOFFSETTO:-0400
TZNAME:EDT
DTSTART:20240310T070000
END:DAYLIGHT
BEGIN:STANDARD
TZOFFSETFROM:-0400
TZOFFSETTO:-0500
TZNAME:EST
DTSTART:20241103T060000
END:STANDARD
END:VTIMEZONE
BEGIN:VEVENT
DTSTART;TZID=America/New_York:20230815T110000
DTEND;TZID=America/New_York:20230815T160000
DTSTAMP:20260421T044021
CREATED:20230503T222429Z
LAST-MODIFIED:20230808T124342Z
UID:10000036-1692097200-1692115200@nccagent.com
SUMMARY:Rollout Tour Chicago
DESCRIPTION:Join the NCC team and our local carrier reps at Crust Brewing\, in Rosemont to discuss the newest in Medicare products and services\, and network with other area agents! \nParking:  Available in the Parkway Bank Parking Garage and free of charge for all guests – with validation from our host staff. \nRegister Below!
URL:https://nccagent.com/ncc-events/agent-networking-rosemont-il/
LOCATION:Crust Brewing\, 5500 Park Place\, Rosemont\, IL\, 60018\, United States
CATEGORIES:In-Person
ATTACH;FMTTYPE=image/png:https://nccagent.com/app/uploads/chicago-1.png
END:VEVENT
BEGIN:VEVENT
DTSTART;TZID=America/New_York:20230817T110000
DTEND;TZID=America/New_York:20230817T170000
DTSTAMP:20260421T044021
CREATED:20230504T181740Z
LAST-MODIFIED:20230724T153625Z
UID:10000037-1692270000-1692291600@nccagent.com
SUMMARY:Rollout Tour Nashville
DESCRIPTION:Let’s connect in Nashville\, TN at Topgolf Nashville to discuss the newest in Medicare offerings with local carrier reps\, network with other area agents\, and have some fun! \nRegister Below!
URL:https://nccagent.com/ncc-events/rollout-tour-nashville/
LOCATION:Topgolf Nashville\, 500 Cowan St\, Nashville\, TN\, 37207\, United States
CATEGORIES:In-Person
ATTACH;FMTTYPE=image/png:https://nccagent.com/app/uploads/nashville.png
END:VEVENT
BEGIN:VEVENT
DTSTART;TZID=America/New_York:20230822T100000
DTEND;TZID=America/New_York:20230822T160000
DTSTAMP:20260421T044021
CREATED:20230504T185202Z
LAST-MODIFIED:20230725T191532Z
UID:10000038-1692698400-1692720000@nccagent.com
SUMMARY:Rollout Tour Charlotte
DESCRIPTION:Join us at Topgolf Charlotte – University to learn more about the newest in Medicare products and services\, network with other area agents\, and have some fun! \nRegister Below!
URL:https://nccagent.com/ncc-events/rollout-tour-charlotte/
LOCATION:Topgolf Charlotte – University\, 9110 Drivers Way\, Charlotte\, NC\, 28262\, United States
CATEGORIES:In-Person
ATTACH;FMTTYPE=image/png:https://nccagent.com/app/uploads/charlotte-1.png
END:VEVENT
BEGIN:VEVENT
DTSTART;TZID=America/New_York:20230824T100000
DTEND;TZID=America/New_York:20230824T150000
DTSTAMP:20260421T044021
CREATED:20230504T193658Z
LAST-MODIFIED:20230724T154814Z
UID:10000039-1692871200-1692889200@nccagent.com
SUMMARY:Rollout Tour Columbus
DESCRIPTION:Join the NCC team and our local carrier reps at Blacklick Woods Golf Course\, in Reynoldsburg\, OH to discuss the newest in Medicare products and services\, and network with other area agents! \nRegister Below!
URL:https://nccagent.com/ncc-events/rollout-tour-columbus/
LOCATION:Blacklick Woods Golf Course\, 7309 E Livingston Ave\, Reynoldsburg\, OH\, 43068\, United States
CATEGORIES:In-Person
ATTACH;FMTTYPE=image/png:https://nccagent.com/app/uploads/columbus.png
END:VEVENT
END:VCALENDAR