BEGIN:VCALENDAR
VERSION:2.0
PRODID:-//NCC - ECPv6.15.20//NONSGML v1.0//EN
CALSCALE:GREGORIAN
METHOD:PUBLISH
X-WR-CALNAME:NCC
X-ORIGINAL-URL:https://nccagent.com
X-WR-CALDESC:Events for NCC
REFRESH-INTERVAL;VALUE=DURATION:PT1H
X-Robots-Tag:noindex
X-PUBLISHED-TTL:PT1H
BEGIN:VTIMEZONE
TZID:America/New_York
BEGIN:DAYLIGHT
TZOFFSETFROM:-0500
TZOFFSETTO:-0400
TZNAME:EDT
DTSTART:20240310T070000
END:DAYLIGHT
BEGIN:STANDARD
TZOFFSETFROM:-0400
TZOFFSETTO:-0500
TZNAME:EST
DTSTART:20241103T060000
END:STANDARD
BEGIN:DAYLIGHT
TZOFFSETFROM:-0500
TZOFFSETTO:-0400
TZNAME:EDT
DTSTART:20250309T070000
END:DAYLIGHT
BEGIN:STANDARD
TZOFFSETFROM:-0400
TZOFFSETTO:-0500
TZNAME:EST
DTSTART:20251102T060000
END:STANDARD
BEGIN:DAYLIGHT
TZOFFSETFROM:-0500
TZOFFSETTO:-0400
TZNAME:EDT
DTSTART:20260308T070000
END:DAYLIGHT
BEGIN:STANDARD
TZOFFSETFROM:-0400
TZOFFSETTO:-0500
TZNAME:EST
DTSTART:20261101T060000
END:STANDARD
END:VTIMEZONE
BEGIN:VEVENT
DTSTART;TZID=America/New_York:20250123T123000
DTEND;TZID=America/New_York:20250123T163000
DTSTAMP:20260420T012813
CREATED:20240718T200127Z
LAST-MODIFIED:20250225T152554Z
UID:10002040-1737635400-1737649800@nccagent.com
SUMMARY:AEP Appreciation Event
DESCRIPTION:You’re invited to join us for an exclusive Post AEP Appreciation Event with NCC! During this event\, you’ll have the opportunity to collaborate with Medicare carrier representatives and engage with our knowledgeable NCC staff. It’s a fantastic chance to connect\, learn\, and explore exciting opportunities in the Medicare space. \nRSVP Below! \n  \n[sc name=”jackson-ms-post-aep” ][/sc]\n 
URL:https://nccagent.com/ncc-events/jackson-ms-post-aep/
LOCATION:River Hills Club\, 3600 Ridgewood Rd\, Jackson\, 39211\, United States
CATEGORIES:In-Person
END:VEVENT
END:VCALENDAR