BEGIN:VCALENDAR
VERSION:2.0
PRODID:-//NCC - ECPv6.15.20//NONSGML v1.0//EN
CALSCALE:GREGORIAN
METHOD:PUBLISH
X-WR-CALNAME:NCC
X-ORIGINAL-URL:https://nccagent.com
X-WR-CALDESC:Events for NCC
REFRESH-INTERVAL;VALUE=DURATION:PT1H
X-Robots-Tag:noindex
X-PUBLISHED-TTL:PT1H
BEGIN:VTIMEZONE
TZID:America/New_York
BEGIN:DAYLIGHT
TZOFFSETFROM:-0500
TZOFFSETTO:-0400
TZNAME:EDT
DTSTART:20240310T070000
END:DAYLIGHT
BEGIN:STANDARD
TZOFFSETFROM:-0400
TZOFFSETTO:-0500
TZNAME:EST
DTSTART:20241103T060000
END:STANDARD
BEGIN:DAYLIGHT
TZOFFSETFROM:-0500
TZOFFSETTO:-0400
TZNAME:EDT
DTSTART:20250309T070000
END:DAYLIGHT
BEGIN:STANDARD
TZOFFSETFROM:-0400
TZOFFSETTO:-0500
TZNAME:EST
DTSTART:20251102T060000
END:STANDARD
BEGIN:DAYLIGHT
TZOFFSETFROM:-0500
TZOFFSETTO:-0400
TZNAME:EDT
DTSTART:20260308T070000
END:DAYLIGHT
BEGIN:STANDARD
TZOFFSETFROM:-0400
TZOFFSETTO:-0500
TZNAME:EST
DTSTART:20261101T060000
END:STANDARD
END:VTIMEZONE
BEGIN:VEVENT
DTSTART;TZID=America/New_York:20250904T120000
DTEND;TZID=America/New_York:20250904T130000
DTSTAMP:20260419T104450
CREATED:20250618T141107Z
LAST-MODIFIED:20250827T130232Z
UID:10002121-1756987200-1756990800@nccagent.com
SUMMARY:Rollout Tour - Jackson\, MS
DESCRIPTION:Adventure Awaits in Jackson\, MS – Join NCC on the Journey!\nStep into the world of Medicare like never before with NCC as your guide! Meet with top carrier reps\, uncover exciting new products\, and connect with fellow agents ready to explore fresh opportunities. It’s a high-energy event packed with insight\, strategy\, and discovery. \nSecure your spot now—your adventure starts here! \n  \n11 am to 12 pm Central Time\n 
URL:https://nccagent.com/ncc-events/rollout-tour-jackson-ms/
LOCATION:Fairview Inn\, 734 Fairview St.\, Jackson\, MS\, 39202\, United States
CATEGORIES:In-Person
ATTACH;FMTTYPE=image/png:https://nccagent.com/app/uploads/rollout-2025-jackson.png
END:VEVENT
BEGIN:VEVENT
DTSTART;TZID=America/New_York:20250909T110000
DTEND;TZID=America/New_York:20250909T170000
DTSTAMP:20260419T104450
CREATED:20250618T142445Z
LAST-MODIFIED:20250618T174523Z
UID:10002125-1757415600-1757437200@nccagent.com
SUMMARY:Rollout Tour - Nashville\, TN
DESCRIPTION:Blaze a Trail with NCC in Nashville\, TN! \nForge ahead into new Medicare territory with carrier guides and a crew of fellow agents. You’ll uncover valuable updates\, strategies\, and insights that equip you for success in every season. \nClaim your seat and blaze your path today! \n  \n10 am to 4 pm Central Time\n\n\n 
URL:https://nccagent.com/ncc-events/rollout-tour-nashville-tn/
LOCATION:Kings Dining & Entertainment\, 1910 Galleria Blvd\, Suite 120\, Franklin\, 37067\, United States
CATEGORIES:In-Person
ATTACH;FMTTYPE=image/png:https://nccagent.com/app/uploads/rollout-2025-nashville.png
END:VEVENT
BEGIN:VEVENT
DTSTART;TZID=America/New_York:20250911T090000
DTEND;TZID=America/New_York:20250911T150000
DTSTAMP:20260419T104450
CREATED:20250618T141916Z
LAST-MODIFIED:20250904T181941Z
UID:10002122-1757581200-1757602800@nccagent.com
SUMMARY:Rollout Tour - Duluth\, GA
DESCRIPTION:Gear Up for an NCC Adventure in Duluth\, GA!\nAdventure is calling! Join us for a fast-paced day of discovery as we trek through the latest Medicare offerings\, meet with carriers\, and build connections that power your success. \nSign up now—your next great adventure starts here!
URL:https://nccagent.com/ncc-events/rollout-tour-duluth-ga/
LOCATION:TPC Sugarloaf\, 2595 Sugarloaf Club Dr\, Duluth\, GA\, 30097\, United States
CATEGORIES:In-Person
ATTACH;FMTTYPE=image/png:https://nccagent.com/app/uploads/rollout-2025-duluth.png
END:VEVENT
BEGIN:VEVENT
DTSTART;TZID=America/New_York:20250916T100000
DTEND;TZID=America/New_York:20250916T150000
DTSTAMP:20260419T104450
CREATED:20250618T142041Z
LAST-MODIFIED:20250618T142042Z
UID:10002123-1758016800-1758034800@nccagent.com
SUMMARY:Rollout Tour - Johnson City\, TN
DESCRIPTION:Embark on a Medicare Adventure with NCC in Johnson City\, TN!\nPack your bags for a journey through the latest Medicare products and services! Meet carrier reps\, navigate new opportunities\, and connect with fellow agents ready to explore uncharted territory. \nRegister now and start your adventure!
URL:https://nccagent.com/ncc-events/rollout-tour-johnson-city-tn/
LOCATION:Johnson City Carnegie Hotel\, 1216 W State of Franklin Rd\, Johnson City\, TN\, 37604\, United States
CATEGORIES:In-Person
ATTACH;FMTTYPE=image/png:https://nccagent.com/app/uploads/rollout-2025-johnson.png
END:VEVENT
BEGIN:VEVENT
DTSTART;TZID=America/New_York:20250924T100000
DTEND;TZID=America/New_York:20250924T160000
DTSTAMP:20260419T104450
CREATED:20250708T130515Z
LAST-MODIFIED:20250708T131048Z
UID:10002126-1758708000-1758729600@nccagent.com
SUMMARY:Rollout Tour - Knoxville\, TN
DESCRIPTION:Blaze a New Course with NCC in Knoxville\, TN! Set out with us as we explore bold new horizons in Medicare! With carrier reps as your guides and a team of local agents by your side\, you’ll gain tools and insights to lead the way in your market. Register below and let the adventure begin!
URL:https://nccagent.com/ncc-events/rollout-tour-knoxville-tn/
LOCATION:Topgolf Knoxville\, 11400 Outlet Dr\, Farragut\, Knoxville\, 37932\, United States
CATEGORIES:In-Person
ATTACH;FMTTYPE=image/png:https://nccagent.com/app/uploads/rollout-2025-knoxville.png
END:VEVENT
END:VCALENDAR