BEGIN:VCALENDAR
VERSION:2.0
PRODID:-//NCC - ECPv6.15.20//NONSGML v1.0//EN
CALSCALE:GREGORIAN
METHOD:PUBLISH
X-WR-CALNAME:NCC
X-ORIGINAL-URL:https://nccagent.com
X-WR-CALDESC:Events for NCC
REFRESH-INTERVAL;VALUE=DURATION:PT1H
X-Robots-Tag:noindex
X-PUBLISHED-TTL:PT1H
BEGIN:VTIMEZONE
TZID:America/New_York
BEGIN:DAYLIGHT
TZOFFSETFROM:-0500
TZOFFSETTO:-0400
TZNAME:EDT
DTSTART:20230312T070000
END:DAYLIGHT
BEGIN:STANDARD
TZOFFSETFROM:-0400
TZOFFSETTO:-0500
TZNAME:EST
DTSTART:20231105T060000
END:STANDARD
BEGIN:DAYLIGHT
TZOFFSETFROM:-0500
TZOFFSETTO:-0400
TZNAME:EDT
DTSTART:20240310T070000
END:DAYLIGHT
BEGIN:STANDARD
TZOFFSETFROM:-0400
TZOFFSETTO:-0500
TZNAME:EST
DTSTART:20241103T060000
END:STANDARD
BEGIN:DAYLIGHT
TZOFFSETFROM:-0500
TZOFFSETTO:-0400
TZNAME:EDT
DTSTART:20250309T070000
END:DAYLIGHT
BEGIN:STANDARD
TZOFFSETFROM:-0400
TZOFFSETTO:-0500
TZNAME:EST
DTSTART:20251102T060000
END:STANDARD
END:VTIMEZONE
BEGIN:VEVENT
DTSTART;TZID=America/New_York:20240604T140000
DTEND;TZID=America/New_York:20240604T150000
DTSTAMP:20260420T085244
CREATED:20240320T134715Z
LAST-MODIFIED:20240620T015045Z
UID:10000108-1717509600-1717513200@nccagent.com
SUMMARY:New Agent Onboarding Part 2 - Medicare 101
DESCRIPTION:Medicare 101 – Embark on a learning adventure with our upcoming webinar\, “Medicare 101\,” where we unravel the A\, B\, D\,  and C’s of Medicare!  Join us for an insightful session delving into the essence of Medicare\, equipping you with the knowledge to build your business effectively. Together\, let’s navigate the maze of Medicare and empower others with the understanding they need. \n\nSecure your spot below.  We can’t wait to connect with you soon! \n Register Now\n\n 
URL:https://nccagent.com/ncc-events/new-agent-onboarding-part-2-medicare-101-2/2024-06-04/
CATEGORIES:Webinars
END:VEVENT
BEGIN:VEVENT
DTSTART;TZID=America/New_York:20240611T140000
DTEND;TZID=America/New_York:20240611T150000
DTSTAMP:20260420T085244
CREATED:20240611T142721Z
LAST-MODIFIED:20240620T015115Z
UID:10000190-1718114400-1718118000@nccagent.com
SUMMARY:New Agent Onboarding Part 3 - Closing a Medicare Sale
DESCRIPTION:Closing a Medicare Sale – Now that you know all about Medicare\, how do you run your appointment? This session will teach you how to open\, review\, and close a Medicare Sale. Learn several tips and tricks from our experts on the Sales Development Team. \nReserve your spot below. We look forward to sharing with you soon! \n Register Now
URL:https://nccagent.com/ncc-events/new-agent-onboarding-part-3-closing-a-medicare-sale-3/
LOCATION:Online
CATEGORIES:Webinars
END:VEVENT
BEGIN:VEVENT
DTSTART;TZID=America/New_York:20240613T140000
DTEND;TZID=America/New_York:20240613T150000
DTSTAMP:20260420T085244
CREATED:20240611T145715Z
LAST-MODIFIED:20240620T015120Z
UID:10000198-1718287200-1718290800@nccagent.com
SUMMARY:New Agent Onboarding Part 4 - ACA 101
DESCRIPTION:ACA 101 – Affordable Care Act. What is it? Join our ACA team as they introduce you to how to get started in ACA. You’ll also learn how it can be a great addition to your growing business. \nSecure your spot below. We can’t wait to connect with you soon! \n Register Now
URL:https://nccagent.com/ncc-events/new-agent-onboarding-part-4-aca-101-2/
LOCATION:Online
CATEGORIES:Webinars
END:VEVENT
BEGIN:VEVENT
DTSTART;TZID=America/New_York:20240619T160000
DTEND;TZID=America/New_York:20240619T170000
DTSTAMP:20260420T085244
CREATED:20231221T153443Z
LAST-MODIFIED:20240620T014156Z
UID:10000078-1718812800-1718816400@nccagent.com
SUMMARY:Wisdom Wednesday
DESCRIPTION:Mark your calendars because every third Wednesday of the month\, we’re throwing a Medicare knowledge party that’s as informative as it is FUN! \nGet ready to delve into the realm of Medicare alongside our featured guest experts. Whether you’re new to Medicare or seeking deeper insights\, this interactive session offers valuable wisdom\, tips\, and guidance to help you make the most impact on your business. \nWhat to Expect: \n\nExpert-led discussions on various facets of Medicare\nLive Q&A to address your specific queries.\nInsights\, updates\, and strategies\nNetworking opportunities with fellow attendees\n\nDon’t miss this chance to unravel the complexities of Medicare and empower yourself with knowledge! RSVP now to lock in your spot. \nReserve your spot below. \n Register Now\n  \n 
URL:https://nccagent.com/ncc-events/wisdom-wednesday-6/
CATEGORIES:Webinars
END:VEVENT
BEGIN:VEVENT
DTSTART;TZID=America/New_York:20240625T140000
DTEND;TZID=America/New_York:20240625T150000
DTSTAMP:20260420T085244
CREATED:20240611T145048Z
LAST-MODIFIED:20240620T015125Z
UID:10000194-1719324000-1719327600@nccagent.com
SUMMARY:New Agent Onboarding Part 5 - Working Your Natural Market
DESCRIPTION:Working Your Natural Market – Where do I get beneficiaries to talk to? One of the best ways is one you haven’t thought of yet. Your natural market. Join us to learn where to start and how to grow you business organically. \nSecure your spot by signing up below. We can’t wait to connect with you soon! \n Register Now
URL:https://nccagent.com/ncc-events/new-agent-onboarding-part-5-working-your-natural-market-3/
LOCATION:Online
CATEGORIES:Webinars
END:VEVENT
BEGIN:VEVENT
DTSTART;TZID=America/New_York:20240627T140000
DTEND;TZID=America/New_York:20240627T150000
DTSTAMP:20260420T085244
CREATED:20240320T135536Z
LAST-MODIFIED:20240620T015134Z
UID:10000173-1719496800-1719500400@nccagent.com
SUMMARY:New Agent Onboarding Part 1 - Welcome to NCC
DESCRIPTION:Welcome to NCC – Join us every last Thursday of the month as our sales development team welcomes you to NCC. Part 1 of our New Agent Onboarding Series is your introduction to the team\, offering insights into how we can support your business growth. Explore a comprehensive overview of the myriad tools and resources at your disposal within the NCC ecosystem\, ensuring you are equipped for success. \n\nSecure your spot below. We can’t wait to connect with you soon! \n\n\n Register Now\n\n 
URL:https://nccagent.com/ncc-events/new-agent-onboarding-part-1-welcome-to-ncc-4/
CATEGORIES:Webinars
END:VEVENT
BEGIN:VEVENT
DTSTART;TZID=America/New_York:20240628T110000
DTEND;TZID=America/New_York:20240628T120000
DTSTAMP:20260420T085244
CREATED:20240611T140248Z
LAST-MODIFIED:20240620T015138Z
UID:10000184-1719572400-1719576000@nccagent.com
SUMMARY:Town Hall
DESCRIPTION:Join us for an upcoming Town Hall event that promises to be engaging and insightful. This is your chance to unite with us\, exchange valuable insights\, and delve into the latest Medicare topics shaping our discussions. \nSecure your spot for this month’s Town Hall below. We can’t wait to connect with you soon! \n  \n Register Now\n 
URL:https://nccagent.com/ncc-events/town-hall-2/
LOCATION:Online
CATEGORIES:Webinars
END:VEVENT
END:VCALENDAR