BEGIN:VCALENDAR
VERSION:2.0
PRODID:-//NCC - ECPv6.15.20//NONSGML v1.0//EN
CALSCALE:GREGORIAN
METHOD:PUBLISH
X-WR-CALNAME:NCC
X-ORIGINAL-URL:https://nccagent.com
X-WR-CALDESC:Events for NCC
REFRESH-INTERVAL;VALUE=DURATION:PT1H
X-Robots-Tag:noindex
X-PUBLISHED-TTL:PT1H
BEGIN:VTIMEZONE
TZID:America/New_York
BEGIN:DAYLIGHT
TZOFFSETFROM:-0500
TZOFFSETTO:-0400
TZNAME:EDT
DTSTART:20230312T070000
END:DAYLIGHT
BEGIN:STANDARD
TZOFFSETFROM:-0400
TZOFFSETTO:-0500
TZNAME:EST
DTSTART:20231105T060000
END:STANDARD
BEGIN:DAYLIGHT
TZOFFSETFROM:-0500
TZOFFSETTO:-0400
TZNAME:EDT
DTSTART:20240310T070000
END:DAYLIGHT
BEGIN:STANDARD
TZOFFSETFROM:-0400
TZOFFSETTO:-0500
TZNAME:EST
DTSTART:20241103T060000
END:STANDARD
BEGIN:DAYLIGHT
TZOFFSETFROM:-0500
TZOFFSETTO:-0400
TZNAME:EDT
DTSTART:20250309T070000
END:DAYLIGHT
BEGIN:STANDARD
TZOFFSETFROM:-0400
TZOFFSETTO:-0500
TZNAME:EST
DTSTART:20251102T060000
END:STANDARD
END:VTIMEZONE
BEGIN:VEVENT
DTSTART;TZID=America/New_York:20241001T130000
DTEND;TZID=America/New_York:20241001T140000
DTSTAMP:20260420T024229
CREATED:20240618T202922Z
LAST-MODIFIED:20250225T152837Z
UID:10000203-1727787600-1727791200@nccagent.com
SUMMARY:Enrollment Central 2.0
DESCRIPTION:Enrollment Central 2.0 is an advanced online Medicare quoting and enrollment platform powered by SunFire. This cutting-edge tool simplifies the process of quoting and enrolling in MA/MAPD/PDP business\, eliminating the need for agents to navigate multiple carrier sites. \nBid farewell to the days of logging into various platforms as Enrollment Central 2.0 consolidates tasks into a single\, efficient tool. Agents can seamlessly send electronic SOAs\, quote plans\, submit enrollments\, and more—all within this centralized platform. \nReserve your spot at our next webinar. Let’s take a deep dive into Enrollment Central 2.0! \n Register Now
URL:https://nccagent.com/ncc-events/enrollment-central-2-0-5/
LOCATION:Online
CATEGORIES:Webinars
END:VEVENT
BEGIN:VEVENT
DTSTART;TZID=America/New_York:20241003T140000
DTEND;TZID=America/New_York:20241003T150000
DTSTAMP:20260420T024229
CREATED:20240921T011430Z
LAST-MODIFIED:20250225T152752Z
UID:10002074-1727964000-1727967600@nccagent.com
SUMMARY:New Agent Onboarding Part 1 - Welcome to NCC
DESCRIPTION:Welcome to NCC – Join us every last Thursday of the month as our sales development team welcomes you to NCC. Part 1 of our New Agent Onboarding Series is your introduction to the team\, offering insights into how we can support your business growth. Explore a comprehensive overview of the myriad tools and resources at your disposal within the NCC ecosystem\, ensuring you are equipped for success. \n\nSecure your spot below. We can’t wait to connect with you soon! \n\n Register Now\n  \n 
URL:https://nccagent.com/ncc-events/october-new-agent-onboarding-part-1-welcome-to-ncc-5/
LOCATION:Online
CATEGORIES:Webinars
END:VEVENT
BEGIN:VEVENT
DTSTART;TZID=America/New_York:20241010T140000
DTEND;TZID=America/New_York:20241010T150000
DTSTAMP:20260420T024229
CREATED:20240921T010055Z
LAST-MODIFIED:20250225T152744Z
UID:10002070-1728568800-1728572400@nccagent.com
SUMMARY:New Agent Onboarding Part 2 - Medicare 101
DESCRIPTION:Medicare 101 – Embark on a learning adventure with our upcoming webinar\, “Medicare 101\,” where we unravel the A\, B\, D\,  and C’s of Medicare!  Join us for an insightful session delving into the essence of Medicare\, equipping you with the knowledge to build your business effectively. Together\, let’s navigate the maze of Medicare and empower others with the understanding they need. \n\nSecure your spot below.  We can’t wait to connect with you soon! \n Register Now\n\n 
URL:https://nccagent.com/ncc-events/new-agent-onboarding-part-2-medicare-101-6/
LOCATION:Online
CATEGORIES:Webinars
END:VEVENT
BEGIN:VEVENT
DTSTART;TZID=America/New_York:20241016T160000
DTEND;TZID=America/New_York:20241016T170000
DTSTAMP:20260420T024229
CREATED:20231221T154053Z
LAST-MODIFIED:20250225T152737Z
UID:10000082-1729094400-1729098000@nccagent.com
SUMMARY:Wisdom Wednesday
DESCRIPTION:Mark your calendars because every third Wednesday of the month\, we’re throwing a Medicare knowledge party that’s as informative as it is FUN! \nGet ready to delve into the realm of Medicare alongside our featured guest experts. Whether you’re new to Medicare or seeking deeper insights\, this interactive session offers valuable wisdom\, tips\, and guidance to help you make the most impact on your business. \nWhat to Expect: \n\nExpert-led discussions on various facets of Medicare\nLive Q&A to address your specific queries.\nInsights\, updates\, and strategies\nNetworking opportunities with fellow attendees\n\nDon’t miss this chance to unravel the complexities of Medicare and empower yourself with knowledge! RSVP now to lock in your spot. \nReserve your spot below. \n Register Now\n  \n 
URL:https://nccagent.com/ncc-events/wisdom-wednesday-10/
LOCATION:Online
CATEGORIES:Webinars
END:VEVENT
BEGIN:VEVENT
DTSTART;TZID=America/New_York:20241017T140000
DTEND;TZID=America/New_York:20241017T150000
DTSTAMP:20260420T024229
CREATED:20240921T010312Z
LAST-MODIFIED:20250225T152732Z
UID:10002071-1729173600-1729177200@nccagent.com
SUMMARY:New Agent Onboarding Part 3 - Closing a Medicare Sale
DESCRIPTION:Closing a Medicare Sale – Now that you know all about Medicare\, how do you run your appointment? This session will teach you how to open\, review\, and close a Medicare Sale. Learn several tips and tricks from our experts on the Sales Development Team. \nReserve your spot below. We look forward to sharing with you soon! \n Register Now\n  \n 
URL:https://nccagent.com/ncc-events/new-agent-onboarding-part-3-closing-a-medicare-sale-2/
LOCATION:Online
CATEGORIES:Webinars
END:VEVENT
BEGIN:VEVENT
DTSTART;TZID=America/New_York:20241022T140000
DTEND;TZID=America/New_York:20241022T150000
DTSTAMP:20260420T024229
CREATED:20240921T010613Z
LAST-MODIFIED:20250225T152726Z
UID:10002072-1729605600-1729609200@nccagent.com
SUMMARY:New Agent Onboarding Part 4 - ACA 101
DESCRIPTION:ACA 101 – Affordable Care Act. What is it? Join our ACA team as they introduce you to how to get started in ACA. You’ll also learn how it can be a great addition to your growing business. \nSecure your spot below. We can’t wait to connect with you soon! \n Register Now
URL:https://nccagent.com/ncc-events/new-agent-onboarding-part-4-aca-101-4/
LOCATION:Online
CATEGORIES:Webinars
END:VEVENT
BEGIN:VEVENT
DTSTART;TZID=America/New_York:20241024T140000
DTEND;TZID=America/New_York:20241024T150000
DTSTAMP:20260420T024229
CREATED:20240921T010828Z
LAST-MODIFIED:20250225T152720Z
UID:10002073-1729778400-1729782000@nccagent.com
SUMMARY:New Agent Onboarding Part 5 - Working Your Natural Market
DESCRIPTION:Working Your Natural Market – Where do I get beneficiaries to talk to? One of the best ways is one you haven’t thought of yet. Your natural market. Join us to learn where to start and how to grow you business organically. \nSecure your spot by signing up below. We can’t wait to connect with you soon! \n Register Now
URL:https://nccagent.com/ncc-events/new-agent-onboarding-part-5-working-your-natural-market-7/
LOCATION:Online
CATEGORIES:Webinars
END:VEVENT
BEGIN:VEVENT
DTSTART;TZID=America/New_York:20241031T110000
DTEND;TZID=America/New_York:20241031T120000
DTSTAMP:20260420T024229
CREATED:20240611T141244Z
LAST-MODIFIED:20250225T152650Z
UID:10000188-1730372400-1730376000@nccagent.com
SUMMARY:Town Hall
DESCRIPTION:Join us for an upcoming Town Hall event that promises to be engaging and insightful. This is your chance to unite with us\, exchange valuable insights\, and delve into the latest Medicare topics shaping our discussions. \nSecure your spot for this month’s Town Hall below. We can’t wait to connect with you soon! \n  \n Register Now
URL:https://nccagent.com/ncc-events/town-hall-6/
LOCATION:Online
CATEGORIES:Webinars
END:VEVENT
END:VCALENDAR