BEGIN:VCALENDAR
VERSION:2.0
PRODID:-//NCC - ECPv6.15.20//NONSGML v1.0//EN
CALSCALE:GREGORIAN
METHOD:PUBLISH
X-WR-CALNAME:NCC
X-ORIGINAL-URL:https://nccagent.com
X-WR-CALDESC:Events for NCC
REFRESH-INTERVAL;VALUE=DURATION:PT1H
X-Robots-Tag:noindex
X-PUBLISHED-TTL:PT1H
BEGIN:VTIMEZONE
TZID:America/New_York
BEGIN:DAYLIGHT
TZOFFSETFROM:-0500
TZOFFSETTO:-0400
TZNAME:EDT
DTSTART:20230312T070000
END:DAYLIGHT
BEGIN:STANDARD
TZOFFSETFROM:-0400
TZOFFSETTO:-0500
TZNAME:EST
DTSTART:20231105T060000
END:STANDARD
BEGIN:DAYLIGHT
TZOFFSETFROM:-0500
TZOFFSETTO:-0400
TZNAME:EDT
DTSTART:20240310T070000
END:DAYLIGHT
BEGIN:STANDARD
TZOFFSETFROM:-0400
TZOFFSETTO:-0500
TZNAME:EST
DTSTART:20241103T060000
END:STANDARD
BEGIN:DAYLIGHT
TZOFFSETFROM:-0500
TZOFFSETTO:-0400
TZNAME:EDT
DTSTART:20250309T070000
END:DAYLIGHT
BEGIN:STANDARD
TZOFFSETFROM:-0400
TZOFFSETTO:-0500
TZNAME:EST
DTSTART:20251102T060000
END:STANDARD
END:VTIMEZONE
BEGIN:VEVENT
DTSTART;TZID=America/New_York:20241108T100000
DTEND;TZID=America/New_York:20241108T110000
DTSTAMP:20260420T011251
CREATED:20241105T215845Z
LAST-MODIFIED:20241105T224138Z
UID:10002075-1731060000-1731063600@nccagent.com
SUMMARY:Devoted Health Plans - Commissions Webinar
DESCRIPTION:Get paid for EVERY Medicare Advantage plan you sell with Devoted \n\nPlus $50 when you complete the HRA\nLarge Part B Givebacks\nStrong Food & Home Card benefits (NON-SNP & SNP plans)\nWorld-class customer service\nWeekly commission payments (on all plans) based on enrollment date\nWe protect AOR\n\n  \nJoin us this Friday\, November 8th! Reserve your spot below. \n  \n Register Now\n  \nThis event is hosted by the carrier\, not NCC. We provide these links for your convenience\, but please be aware that we are not responsible for managing these events. If you encounter any issues\, such as problems with RSVPs\, reminder emails\, or invitations after registering\, please contact the carrier directly. We are unable to provide assistance or troubleshoot issues related to these external events. Thank you for your understanding.
URL:https://nccagent.com/ncc-events/devoted-health-plans-commissions-webinar/
CATEGORIES:Webinars
END:VEVENT
END:VCALENDAR