BEGIN:VCALENDAR
VERSION:2.0
PRODID:-//NCC - ECPv6.15.20//NONSGML v1.0//EN
CALSCALE:GREGORIAN
METHOD:PUBLISH
X-WR-CALNAME:NCC
X-ORIGINAL-URL:https://nccagent.com
X-WR-CALDESC:Events for NCC
REFRESH-INTERVAL;VALUE=DURATION:PT1H
X-Robots-Tag:noindex
X-PUBLISHED-TTL:PT1H
BEGIN:VTIMEZONE
TZID:America/New_York
BEGIN:DAYLIGHT
TZOFFSETFROM:-0500
TZOFFSETTO:-0400
TZNAME:EDT
DTSTART:20240310T070000
END:DAYLIGHT
BEGIN:STANDARD
TZOFFSETFROM:-0400
TZOFFSETTO:-0500
TZNAME:EST
DTSTART:20241103T060000
END:STANDARD
BEGIN:DAYLIGHT
TZOFFSETFROM:-0500
TZOFFSETTO:-0400
TZNAME:EDT
DTSTART:20250309T070000
END:DAYLIGHT
BEGIN:STANDARD
TZOFFSETFROM:-0400
TZOFFSETTO:-0500
TZNAME:EST
DTSTART:20251102T060000
END:STANDARD
BEGIN:DAYLIGHT
TZOFFSETFROM:-0500
TZOFFSETTO:-0400
TZNAME:EDT
DTSTART:20260308T070000
END:DAYLIGHT
BEGIN:STANDARD
TZOFFSETFROM:-0400
TZOFFSETTO:-0500
TZNAME:EST
DTSTART:20261101T060000
END:STANDARD
END:VTIMEZONE
BEGIN:VEVENT
DTSTART;TZID=America/New_York:20250115T150000
DTEND;TZID=America/New_York:20250115T160000
DTSTAMP:20260419T213433
CREATED:20250103T202444Z
LAST-MODIFIED:20250225T152610Z
UID:10002077-1736953200-1736956800@nccagent.com
SUMMARY:Wisdom Wednesday - Hospital Indemnity
DESCRIPTION:Hospital stays can be costly\, but with the right hospital indemnity plans\, you can offer clients peace of mind. Join us for an in-depth session featuring a carrier spotlight\, where you’ll learn how to position these plans to close coverage gaps and boost your sales. Walk away with actionable tips to better serve your clients and grow your business. Register belowto get started! \n  \n Register Now
URL:https://nccagent.com/ncc-events/wisdom-wednesday-hospital-indemnity/
LOCATION:Online
CATEGORIES:Webinars
END:VEVENT
BEGIN:VEVENT
DTSTART;TZID=America/New_York:20250122T110000
DTEND;TZID=America/New_York:20250122T120000
DTSTAMP:20260419T213433
CREATED:20250116T175211Z
LAST-MODIFIED:20250225T152604Z
UID:10002079-1737543600-1737547200@nccagent.com
SUMMARY:RetireFlo Reimagined - Unlock New Opportunities for Growth
DESCRIPTION:Join National Contracting Center and RetireFlo for an exclusive webinar unveiling RetireFlo’s latest updates designed to elevate your business. Discover how these innovations can help you strengthen client relationships\, enhance your professional reputation\, and streamline growth. Don’t miss this chance to learn directly from the experts and see how RetireFlo continues to empower agents like you. \nRegister below to secure your spot! \n  \n Register Now
URL:https://nccagent.com/ncc-events/retireflo-reimagined-unlock-new-opportunities-for-growth/
LOCATION:Online
CATEGORIES:Webinars
END:VEVENT
BEGIN:VEVENT
DTSTART;TZID=America/New_York:20250131T110000
DTEND;TZID=America/New_York:20250131T120000
DTSTAMP:20260419T213433
CREATED:20250103T204116Z
LAST-MODIFIED:20250225T152544Z
UID:10002078-1738321200-1738324800@nccagent.com
SUMMARY:Town Hall - Ancillary and ACA
DESCRIPTION:Expand your offerings and meet more client needs with ancillary products and ACA plans! This session will spotlight key carriers\, breaking down the benefits of bundling products like dental\, vision\, and critical illness with ACA options. Learn how to position these plans\, increase your sales\, and deliver value to clients across various demographics. Whether you’re new to ACA or looking to grow your ancillary sales\, this town hall will provide actionable insights and tools. Register below and take your portfolio to the next level! \n  \n Register Now
URL:https://nccagent.com/ncc-events/town-hall-ancillary-and-aca/
LOCATION:Online
CATEGORIES:Webinars
END:VEVENT
END:VCALENDAR