BEGIN:VCALENDAR
VERSION:2.0
PRODID:-//NCC - ECPv6.15.20//NONSGML v1.0//EN
CALSCALE:GREGORIAN
METHOD:PUBLISH
X-WR-CALNAME:NCC
X-ORIGINAL-URL:https://nccagent.com
X-WR-CALDESC:Events for NCC
REFRESH-INTERVAL;VALUE=DURATION:PT1H
X-Robots-Tag:noindex
X-PUBLISHED-TTL:PT1H
BEGIN:VTIMEZONE
TZID:America/New_York
BEGIN:DAYLIGHT
TZOFFSETFROM:-0500
TZOFFSETTO:-0400
TZNAME:EDT
DTSTART:20240310T070000
END:DAYLIGHT
BEGIN:STANDARD
TZOFFSETFROM:-0400
TZOFFSETTO:-0500
TZNAME:EST
DTSTART:20241103T060000
END:STANDARD
BEGIN:DAYLIGHT
TZOFFSETFROM:-0500
TZOFFSETTO:-0400
TZNAME:EDT
DTSTART:20250309T070000
END:DAYLIGHT
BEGIN:STANDARD
TZOFFSETFROM:-0400
TZOFFSETTO:-0500
TZNAME:EST
DTSTART:20251102T060000
END:STANDARD
BEGIN:DAYLIGHT
TZOFFSETFROM:-0500
TZOFFSETTO:-0400
TZNAME:EDT
DTSTART:20260308T070000
END:DAYLIGHT
BEGIN:STANDARD
TZOFFSETFROM:-0400
TZOFFSETTO:-0500
TZNAME:EST
DTSTART:20261101T060000
END:STANDARD
END:VTIMEZONE
BEGIN:VEVENT
DTSTART;TZID=America/New_York:20250218T120000
DTEND;TZID=America/New_York:20250218T130000
DTSTAMP:20260419T194557
CREATED:20250214T162548Z
LAST-MODIFIED:20250224T224820Z
UID:10002082-1739880000-1739883600@nccagent.com
SUMMARY:Diversity University - Class 1
DESCRIPTION:Do you want to do more to protect your clients and increase your income in 2025? Join us every Tuesday through March 25th at 12pm. Hear from a different carrier every week and learn the importance of selling all types of Health and Life products. Diversifying the products you offer is the answer to more protection and more income! When you are dedicated to diverisifying you are not only protecting your client but also your income. \nReserve your spot below! \n  \n Register Now\n  \n 
URL:https://nccagent.com/ncc-events/diversity-university-class-1/
LOCATION:Online
CATEGORIES:Webinars
ATTACH;FMTTYPE=image/png:https://nccagent.com/app/uploads/Diversity-University-1.png
END:VEVENT
BEGIN:VEVENT
DTSTART;TZID=America/New_York:20250219T150000
DTEND;TZID=America/New_York:20250219T160000
DTSTAMP:20260419T194557
CREATED:20250129T220846Z
LAST-MODIFIED:20250129T220848Z
UID:10002080-1739977200-1739980800@nccagent.com
SUMMARY:Wisdom Wednesday - Make Social Media Work for You
DESCRIPTION:Social media isn’t just for fun—it’s a powerful tool to grow your Medicare business. Learn from NCC’s Marketing team how to create engaging content\, reach more prospects\, and position yourself as a trusted expert in the Medicare market. Whether you’re a social media pro or just getting started\, this session has something for everyone. \nDon’t miss out—register below! \n  \n Register Now\n  \n 
URL:https://nccagent.com/ncc-events/wisdom-wednesday-make-social-media-work-for-you/
LOCATION:Online
CATEGORIES:Webinars
ATTACH;FMTTYPE=image/png:https://nccagent.com/app/uploads/2025-Wisdom-Wednesdays.png
END:VEVENT
BEGIN:VEVENT
DTSTART;TZID=America/New_York:20250225T120000
DTEND;TZID=America/New_York:20250225T130000
DTSTAMP:20260419T194557
CREATED:20250220T144325Z
LAST-MODIFIED:20250224T221935Z
UID:10002083-1740484800-1740488400@nccagent.com
SUMMARY:Diversity University - Class 2 - Americo
DESCRIPTION:Do you want to do more to protect your clients and increase your income in 2025? Join us every Tuesday through March 25th at 12pm. Hear from a different carrier every week and learn the importance of selling all types of Health and Life products. Diversifying the products you offer is the answer to more protection and more income! When you are dedicated to diverisifying you are not only protecting your client but also your income. \nReserve your spot below! \n  \n Register Now\n  \n  \n  \n 
URL:https://nccagent.com/ncc-events/diversity-university-class-2-americo/
LOCATION:Online
CATEGORIES:Webinars
ATTACH;FMTTYPE=image/png:https://nccagent.com/app/uploads/Diversity-University-Americo.png
END:VEVENT
BEGIN:VEVENT
DTSTART;TZID=America/New_York:20250228T110000
DTEND;TZID=America/New_York:20250228T120000
DTSTAMP:20260419T194557
CREATED:20250129T221048Z
LAST-MODIFIED:20250226T175953Z
UID:10002081-1740740400-1740744000@nccagent.com
SUMMARY:Town Hall - Agent Success Stories and Testimonials
DESCRIPTION:Success leaves clues\, and we’ve gathered five top agents to share their strategies and stories with you! From overcoming challenges to building thriving businesses\, these guest speakers will provide actionable tips and inspiration. Discover how they’ve used NCC tools and resources to achieve their goals and how you can do the same. This town hall is your chance to learn from the best and get ideas to grow your business. \nRegister now and get inspired by real success stories! \n  \n Register Now\n  \n  \n  \n 
URL:https://nccagent.com/ncc-events/town-hall-agent-success-stories-and-testimonials/
CATEGORIES:Webinars
ATTACH;FMTTYPE=image/png:https://nccagent.com/app/uploads/2025-Town-Halls-2.png
END:VEVENT
END:VCALENDAR