BEGIN:VCALENDAR
VERSION:2.0
PRODID:-//NCC - ECPv6.15.20//NONSGML v1.0//EN
CALSCALE:GREGORIAN
METHOD:PUBLISH
X-ORIGINAL-URL:https://nccagent.com
X-WR-CALDESC:Events for NCC
REFRESH-INTERVAL;VALUE=DURATION:PT1H
X-Robots-Tag:noindex
X-PUBLISHED-TTL:PT1H
BEGIN:VTIMEZONE
TZID:America/New_York
BEGIN:DAYLIGHT
TZOFFSETFROM:-0500
TZOFFSETTO:-0400
TZNAME:EDT
DTSTART:20240310T070000
END:DAYLIGHT
BEGIN:STANDARD
TZOFFSETFROM:-0400
TZOFFSETTO:-0500
TZNAME:EST
DTSTART:20241103T060000
END:STANDARD
BEGIN:DAYLIGHT
TZOFFSETFROM:-0500
TZOFFSETTO:-0400
TZNAME:EDT
DTSTART:20250309T070000
END:DAYLIGHT
BEGIN:STANDARD
TZOFFSETFROM:-0400
TZOFFSETTO:-0500
TZNAME:EST
DTSTART:20251102T060000
END:STANDARD
BEGIN:DAYLIGHT
TZOFFSETFROM:-0500
TZOFFSETTO:-0400
TZNAME:EDT
DTSTART:20260308T070000
END:DAYLIGHT
BEGIN:STANDARD
TZOFFSETFROM:-0400
TZOFFSETTO:-0500
TZNAME:EST
DTSTART:20261101T060000
END:STANDARD
END:VTIMEZONE
BEGIN:VEVENT
DTSTART;TZID=America/New_York:20250304T120000
DTEND;TZID=America/New_York:20250304T130000
DTSTAMP:20260419T180325
CREATED:20250224T202607Z
LAST-MODIFIED:20250226T145457Z
UID:10002084-1741089600-1741093200@nccagent.com
SUMMARY:Diversity University – Class 3 - Manhattan Life
DESCRIPTION:Do you want to do more to protect your clients and increase your income in 2025? Join us every Tuesday through March 25th at 12pm. Hear from a different carrier every week and learn the importance of selling all types of Health and Life products. Diversifying the products you offer is the answer to more protection and more income! When you are dedicated to diverisifying you are not only protecting your client but also your income. Reserve your spot below! \n  \n Register Now
URL:https://nccagent.com/ncc-events/diversity-university-class-3/
LOCATION:Online
CATEGORIES:Webinars
ATTACH;FMTTYPE=image/png:https://nccagent.com/app/uploads/Diversity-University-3-1.png
END:VEVENT
BEGIN:VEVENT
DTSTART;TZID=America/New_York:20250311T120000
DTEND;TZID=America/New_York:20250311T130000
DTSTAMP:20260419T180325
CREATED:20250224T202816Z
LAST-MODIFIED:20250226T150138Z
UID:10002085-1741694400-1741698000@nccagent.com
SUMMARY:Diversity University – Class 4 - OneShare Health
DESCRIPTION:Do you want to do more to protect your clients and increase your income in 2025? Join us every Tuesday through March 25th at 12pm. Hear from a different carrier every week and learn the importance of selling all types of Health and Life products. Diversifying the products you offer is the answer to more protection and more income! When you are dedicated to diversifying you are not only protecting your client but also your income. Reserve your spot below! \n  \n Register Now
URL:https://nccagent.com/ncc-events/diversity-university-class-4/
LOCATION:Online
CATEGORIES:Webinars
ATTACH;FMTTYPE=image/png:https://nccagent.com/app/uploads/Diversity-University-class-4.png
END:VEVENT
BEGIN:VEVENT
DTSTART;TZID=America/New_York:20250318T120000
DTEND;TZID=America/New_York:20250318T130000
DTSTAMP:20260419T180325
CREATED:20250224T202959Z
LAST-MODIFIED:20250311T155448Z
UID:10002086-1742299200-1742302800@nccagent.com
SUMMARY:Diversity University – Class 5 - Sean LaNore - UNL
DESCRIPTION:Do you want to do more to protect your clients and increase your income in 2025? Join us every Tuesday through March 25th at 12 p.m. Hear from a different carrier every week and learn the importance of selling all types of Health and Life products. Diversifying the products you offer is the answer to more protection and more income! When you are dedicated to diversifying you are not only protecting your client but also your income. Join us on March 18th with our guest speaker from UNL\, Sean LaNore! \nReserve your spot below! \n  \n Register Now\n  \n 
URL:https://nccagent.com/ncc-events/diversity-university-class-5/
LOCATION:Online
CATEGORIES:Webinars
ATTACH;FMTTYPE=image/png:https://nccagent.com/app/uploads/Diversity-University-5-1.png
END:VEVENT
BEGIN:VEVENT
DTSTART;TZID=America/New_York:20250319T150000
DTEND;TZID=America/New_York:20250319T160000
DTSTAMP:20260419T180325
CREATED:20250225T231832Z
LAST-MODIFIED:20250225T231833Z
UID:10002088-1742396400-1742400000@nccagent.com
SUMMARY:Wisdom Wednesday - Retention Communication and Marketing
DESCRIPTION:Retention is the key to a thriving Medicare business! Discover how effective communication and marketing strategies can keep your clients loyal and engaged year-round. From follow-ups to personalized touchpoints\, this webinar will help you build stronger relationships and reduce churn. \n  \n Register Now\n  \n 
URL:https://nccagent.com/ncc-events/wisdom-wednesday-retention-communication-and-marketing/
CATEGORIES:Webinars
ATTACH;FMTTYPE=image/png:https://nccagent.com/app/uploads/2025-Wisdom-Wednesdays-2.png
END:VEVENT
BEGIN:VEVENT
DTSTART;TZID=America/New_York:20250325T120000
DTEND;TZID=America/New_York:20250325T130000
DTSTAMP:20260419T180325
CREATED:20250224T203122Z
LAST-MODIFIED:20250224T224201Z
UID:10002087-1742904000-1742907600@nccagent.com
SUMMARY:Diversity University – Class 6
DESCRIPTION:Do you want to do more to protect your clients and increase your income in 2025? Join us every Tuesday through March 25th at 12pm. Hear from a different carrier every week and learn the importance of selling all types of Health and Life products. Diversifying the products you offer is the answer to more protection and more income! When you are dedicated to diverisifying you are not only protecting your client but also your income. Reserve your spot below! \n  \n Register Now\n  \n 
URL:https://nccagent.com/ncc-events/diversity-university-class-6/
LOCATION:Online
CATEGORIES:Webinars
ATTACH;FMTTYPE=image/png:https://nccagent.com/app/uploads/Diversity-University-6-1.png
END:VEVENT
BEGIN:VEVENT
DTSTART;TZID=America/New_York:20250331T110000
DTEND;TZID=America/New_York:20250331T120000
DTSTAMP:20260419T180325
CREATED:20250226T212249Z
LAST-MODIFIED:20250327T192430Z
UID:10002098-1743418800-1743422400@nccagent.com
SUMMARY:NCC Agent Town Hall - Cancelled for Medicarians
DESCRIPTION:  \n  \n  \n  \n 
URL:https://nccagent.com/ncc-events/ncc-agent-town-hall-ncc-portfolio-and-tool-review/
CATEGORIES:Webinars
ATTACH;FMTTYPE=image/png:https://nccagent.com/app/uploads/2025-Town-Halls-Canceled.png
END:VEVENT
END:VCALENDAR