BEGIN:VCALENDAR
VERSION:2.0
PRODID:-//NCC - ECPv6.15.20//NONSGML v1.0//EN
CALSCALE:GREGORIAN
METHOD:PUBLISH
X-ORIGINAL-URL:https://nccagent.com
X-WR-CALDESC:Events for NCC
REFRESH-INTERVAL;VALUE=DURATION:PT1H
X-Robots-Tag:noindex
X-PUBLISHED-TTL:PT1H
BEGIN:VTIMEZONE
TZID:America/New_York
BEGIN:DAYLIGHT
TZOFFSETFROM:-0500
TZOFFSETTO:-0400
TZNAME:EDT
DTSTART:20250309T070000
END:DAYLIGHT
BEGIN:STANDARD
TZOFFSETFROM:-0400
TZOFFSETTO:-0500
TZNAME:EST
DTSTART:20251102T060000
END:STANDARD
BEGIN:DAYLIGHT
TZOFFSETFROM:-0500
TZOFFSETTO:-0400
TZNAME:EDT
DTSTART:20260308T070000
END:DAYLIGHT
BEGIN:STANDARD
TZOFFSETFROM:-0400
TZOFFSETTO:-0500
TZNAME:EST
DTSTART:20261101T060000
END:STANDARD
BEGIN:DAYLIGHT
TZOFFSETFROM:-0500
TZOFFSETTO:-0400
TZNAME:EDT
DTSTART:20270314T070000
END:DAYLIGHT
BEGIN:STANDARD
TZOFFSETFROM:-0400
TZOFFSETTO:-0500
TZNAME:EST
DTSTART:20271107T060000
END:STANDARD
END:VTIMEZONE
BEGIN:VEVENT
DTSTART;TZID=America/New_York:20260918T110000
DTEND;TZID=America/New_York:20260918T120000
DTSTAMP:20260419T194455
CREATED:20260319T163008Z
LAST-MODIFIED:20260319T163009Z
UID:10002170-1789729200-1789732800@nccagent.com
SUMMARY:Field Ready Fridays - AEP Marketing Masterclass
DESCRIPTION:What is it? A bi-weekly training series led by our Sales Development Team\, designed to give agents clear\, actionable strategies they can use immediately in the field. Each session focuses on real-world scenarios\, compliance\, client retention\, planning\, and operational efficiency. \nWhy register? So you can stay prepared\, confident\, and ready to grow all year long. \n  \n Register Now\n  \n 
URL:https://nccagent.com/ncc-events/field-ready-fridays-aep-marketing-masterclass/
LOCATION:Online
CATEGORIES:Webinars
ATTACH;FMTTYPE=image/webp:https://nccagent.com/app/uploads/Field-Ready-Friday-2026-3.webp
END:VEVENT
BEGIN:VEVENT
DTSTART;TZID=America/New_York:20260921T110000
DTEND;TZID=America/New_York:20260921T120000
DTSTAMP:20260419T194455
CREATED:20260217T203609Z
LAST-MODIFIED:20260217T203611Z
UID:10002163-1789988400-1789992000@nccagent.com
SUMMARY:Enrollment Central 2.0 Training - September 21
DESCRIPTION:Enrollment Central 2.0\, powered by Sunfire\, is your all-in-one solution for quoting\, comparing\, and enrolling your clients in Medicare Advantage\, PDP\, and more. Whether you’re brand new or just need a refresher\, this live training will walk you through everything you need to know\, from contact creation to compliant enrollments. \n\nAdd and manage client contacts\nSend Scope of Appointments with ease\nCompare plans and quote benefits\nEnroll clients directly and compliantly\nUse your BlazeSync link to capture enrollee info automatically\nAsk questions live and get real-time support\n\n  \nDon’t miss this opportunity to sharpen your skills and unlock the full potential of Enrollment Central 2.0! Reserve your seat now\, space is limited! \n  \n Register Now\n  \n 
URL:https://nccagent.com/ncc-events/enrollment-central-2-0-training-september-21/
LOCATION:Online
CATEGORIES:Webinars
ATTACH;FMTTYPE=image/webp:https://nccagent.com/app/uploads/Enrollment-Central-2.0-2026-Webinars.webp
END:VEVENT
BEGIN:VEVENT
DTSTART;TZID=America/New_York:20260924T110000
DTEND;TZID=America/New_York:20260924T120000
DTSTAMP:20260419T194455
CREATED:20251219T230350Z
LAST-MODIFIED:20251219T232211Z
UID:10002143-1790247600-1790251200@nccagent.com
SUMMARY:Town Hall - September 2026
DESCRIPTION:What is it? These monthly open-forum meetings are designed to keep agents informed\, aligned\, and connected. Held on the last Thursday of every month\, Town Halls provide timely updates\, important announcements\, and direct access to the NCC team for questions\, discussion\, and shared insights from the field. \nWhy Register? Agent Town Halls are your opportunity to stay current on industry changes\, hear what’s working right now\, and engage in meaningful conversations that support your growth and success throughout the year. \n  \n Register Now
URL:https://nccagent.com/ncc-events/town-hall-september-2026/
CATEGORIES:Webinars
ATTACH;FMTTYPE=image/webp:https://nccagent.com/app/uploads/2026-Town-Hall-September.webp
END:VEVENT
BEGIN:VEVENT
DTSTART;TZID=America/New_York:20260928T110000
DTEND;TZID=America/New_York:20260928T120000
DTSTAMP:20260419T194455
CREATED:20260217T203557Z
LAST-MODIFIED:20260217T203558Z
UID:10002162-1790593200-1790596800@nccagent.com
SUMMARY:Enrollment Central 2.0 Training - September 28
DESCRIPTION:Enrollment Central 2.0\, powered by Sunfire\, is your all-in-one solution for quoting\, comparing\, and enrolling your clients in Medicare Advantage\, PDP\, and more. Whether you’re brand new or just need a refresher\, this live training will walk you through everything you need to know\, from contact creation to compliant enrollments. \n\nAdd and manage client contacts\nSend Scope of Appointments with ease\nCompare plans and quote benefits\nEnroll clients directly and compliantly\nUse your BlazeSync link to capture enrollee info automatically\nAsk questions live and get real-time support\n\n  \nDon’t miss this opportunity to sharpen your skills and unlock the full potential of Enrollment Central 2.0! Reserve your seat now\, space is limited! \n  \n Register Now\n  \n 
URL:https://nccagent.com/ncc-events/enrollment-central-2-0-training-september-28/
LOCATION:Online
CATEGORIES:Webinars
ATTACH;FMTTYPE=image/webp:https://nccagent.com/app/uploads/Enrollment-Central-2.0-2026-Webinars.webp
END:VEVENT
BEGIN:VEVENT
DTSTART;TZID=America/New_York:20261029T110000
DTEND;TZID=America/New_York:20261029T120000
DTSTAMP:20260419T194455
CREATED:20251219T230428Z
LAST-MODIFIED:20251219T232207Z
UID:10002144-1793271600-1793275200@nccagent.com
SUMMARY:Town Hall - October 2026
DESCRIPTION:What is it? These monthly open-forum meetings are designed to keep agents informed\, aligned\, and connected. Held on the last Thursday of every month\, Town Halls provide timely updates\, important announcements\, and direct access to the NCC team for questions\, discussion\, and shared insights from the field. \nWhy Register? Agent Town Halls are your opportunity to stay current on industry changes\, hear what’s working right now\, and engage in meaningful conversations that support your growth and success throughout the year. \n  \n Register Now
URL:https://nccagent.com/ncc-events/town-hall-october-2026/
CATEGORIES:Webinars
ATTACH;FMTTYPE=image/webp:https://nccagent.com/app/uploads/2026-Town-Hall-October.webp
END:VEVENT
END:VCALENDAR