BEGIN:VCALENDAR
VERSION:2.0
PRODID:-//NCC - ECPv6.15.20//NONSGML v1.0//EN
CALSCALE:GREGORIAN
METHOD:PUBLISH
X-WR-CALNAME:NCC
X-ORIGINAL-URL:https://nccagent.com
X-WR-CALDESC:Events for NCC
REFRESH-INTERVAL;VALUE=DURATION:PT1H
X-Robots-Tag:noindex
X-PUBLISHED-TTL:PT1H
BEGIN:VTIMEZONE
TZID:America/New_York
BEGIN:DAYLIGHT
TZOFFSETFROM:-0500
TZOFFSETTO:-0400
TZNAME:EDT
DTSTART:20220313T070000
END:DAYLIGHT
BEGIN:STANDARD
TZOFFSETFROM:-0400
TZOFFSETTO:-0500
TZNAME:EST
DTSTART:20221106T060000
END:STANDARD
BEGIN:DAYLIGHT
TZOFFSETFROM:-0500
TZOFFSETTO:-0400
TZNAME:EDT
DTSTART:20230312T070000
END:DAYLIGHT
BEGIN:STANDARD
TZOFFSETFROM:-0400
TZOFFSETTO:-0500
TZNAME:EST
DTSTART:20231105T060000
END:STANDARD
BEGIN:DAYLIGHT
TZOFFSETFROM:-0500
TZOFFSETTO:-0400
TZNAME:EDT
DTSTART:20240310T070000
END:DAYLIGHT
BEGIN:STANDARD
TZOFFSETFROM:-0400
TZOFFSETTO:-0500
TZNAME:EST
DTSTART:20241103T060000
END:STANDARD
END:VTIMEZONE
BEGIN:VEVENT
DTSTART;TZID=America/New_York:20230725T110000
DTEND;TZID=America/New_York:20230725T120000
DTSTAMP:20260421T002901
CREATED:20230714T135825Z
LAST-MODIFIED:20230714T135825Z
UID:10000050-1690282800-1690286400@nccagent.com
SUMMARY:Prepare For AEP Like A Pro
DESCRIPTION:It’s never too early to start planning for a successful AEP. \nPlease join us to discuss what you should do to prepare for AEP. We’ll walk through an AEP checklist and review timelines and resources that can make things easier for you. This new training webinar is designed to make sure you’re prepared for the most successful AEP to date. \nSign Up!
URL:https://nccagent.com/ncc-events/prepare-for-aep-like-a-pro/
CATEGORIES:Webinars
ATTACH;FMTTYPE=image/png:https://nccagent.com/app/uploads/pro-webinar-calendar.png
END:VEVENT
BEGIN:VEVENT
DTSTART;TZID=America/New_York:20230719T120000
DTEND;TZID=America/New_York:20230719T130000
DTSTAMP:20260421T002901
CREATED:20230712T161939Z
LAST-MODIFIED:20230712T161939Z
UID:10000048-1689768000-1689771600@nccagent.com
SUMMARY:July Carrier Spotlight Devoted Health
DESCRIPTION:Join us for some lunchtime learning. Each month we will host a session where we partner with our carriers to discuss products\, tips\, and tricks for positioning and sales ideas. \nThis month we will be joined by our representative from Devoted Health\, who will discuss their plans and products\, participate in a Q&A session\, and offer tips on marketing strategy. \nRegister Today!
URL:https://nccagent.com/ncc-events/july-carrier-spotlight-devoted-health/
CATEGORIES:Webinars
ATTACH;FMTTYPE=image/png:https://nccagent.com/app/uploads/july-spot.png
END:VEVENT
BEGIN:VEVENT
DTSTART;TZID=America/New_York:20230718T110000
DTEND;TZID=America/New_York:20230718T150000
DTSTAMP:20260421T002901
CREATED:20230509T220419Z
LAST-MODIFIED:20230509T220422Z
UID:10000046-1689678000-1689692400@nccagent.com
SUMMARY:Agent Networking Chattanooga
DESCRIPTION:Join us in Chattanooga\, TN at the Tennessee Valley Railroad Museum! Meet the NCC team and local carrier reps to learn more about the newest offerings in Medicare. Take advantage of the Q&A discussion to get answers to your questions. Network with other area agents and have some fun. \nRSVP Below!
URL:https://nccagent.com/ncc-events/agent-networking-chattanooga/
LOCATION:Tennessee Valley Railroad Museum\, 4119 Cromwell Rd\, Chattanooga\, TN\, 37421\, United States
CATEGORIES:In-Person
ATTACH;FMTTYPE=image/png:https://nccagent.com/app/uploads/agent-networking-chattanooga.png
END:VEVENT
BEGIN:VEVENT
DTSTART;TZID=America/New_York:20230630T110000
DTEND;TZID=America/New_York:20230630T120000
DTSTAMP:20260421T002901
CREATED:20230314T141836Z
LAST-MODIFIED:20230630T134747Z
UID:10000011-1688122800-1688126400@nccagent.com
SUMMARY:NCC Agent June Town Hall
DESCRIPTION:Join the NCC team and your fellow agents for our June Town Hall to discuss our MMG compliance corner\, and event set-up. You don’t want to miss this one! \nSign up here
URL:https://nccagent.com/ncc-events/ncc-agent-june-town-hall/
CATEGORIES:Webinars
END:VEVENT
BEGIN:VEVENT
DTSTART;TZID=America/New_York:20230627T100000
DTEND;TZID=America/New_York:20230627T160000
DTSTAMP:20260421T002901
CREATED:20230503T204816Z
LAST-MODIFIED:20230510T185733Z
UID:10000035-1687860000-1687881600@nccagent.com
SUMMARY:Agent Networking Alpharetta\, GA
DESCRIPTION:Join us in Alpharetta\, GA at Topgolf! Meet the NCC team and local carrier reps as we learn all the details about the latest offerings. Take advantage of the Q&A discussion to get answers to your questions and network with other area agents! \nRSVP Below!
URL:https://nccagent.com/ncc-events/agent-networking-alpharetta-ga/
LOCATION:Topgolf Alpharetta\, 10900 Westside Pkwy\, Alpharetta\, GA\, 30009\, United States
CATEGORIES:In-Person
ATTACH;FMTTYPE=image/png:https://nccagent.com/app/uploads/alp5-10.png
END:VEVENT
BEGIN:VEVENT
DTSTART;TZID=America/New_York:20230621T120000
DTEND;TZID=America/New_York:20230621T130000
DTSTAMP:20260421T002901
CREATED:20230531T203118Z
LAST-MODIFIED:20230531T203118Z
UID:10000047-1687348800-1687352400@nccagent.com
SUMMARY:June Carrier Spotlight Guarantee Trust Life (GTL)
DESCRIPTION:Join us for some lunchtime learning. Each month we will host a session where we partner with our carriers to discuss products\, tips\, and tricks for positioning and sales ideas. \nThis month we will be joined by our representative from Guarantee Trust Life (GTL)\, who will discuss their plans and products\, participate in a Q&A session\, and offer tips on marketing strategy. \nRegister Today!
URL:https://nccagent.com/ncc-events/june-carrier-spotlight-guarantee-trust-life-gtl/
CATEGORIES:Webinars
ATTACH;FMTTYPE=image/png:https://nccagent.com/app/uploads/june-spot-calendar.png
END:VEVENT
BEGIN:VEVENT
DTSTART;TZID=America/New_York:20230531T110000
DTEND;TZID=America/New_York:20230531T120000
DTSTAMP:20260421T002901
CREATED:20230314T141645Z
LAST-MODIFIED:20230530T204350Z
UID:10000010-1685530800-1685534400@nccagent.com
SUMMARY:NCC Agent May Town Hall
DESCRIPTION:Join the NCC team and your fellow agents for our May Town Hall to discuss short-term home healthcare\, and lead ordering. We can’t wait to see you there! \nSign up here 
URL:https://nccagent.com/ncc-events/ncc-agent-may-town-hall/
CATEGORIES:Webinars
END:VEVENT
BEGIN:VEVENT
DTSTART;TZID=America/New_York:20230517T120000
DTEND;TZID=America/New_York:20230517T130000
DTSTAMP:20260421T002901
CREATED:20230502T131849Z
LAST-MODIFIED:20230509T145712Z
UID:10000034-1684324800-1684328400@nccagent.com
SUMMARY:MAY Carrier Spotlight Physicians Mutual
DESCRIPTION:Join us for some lunchtime learning. Each month we will host a session where we partner with our carriers to discuss products\, tips\, and tricks for positioning and sales ideas. \nThis month we will be joined by our representative from Physicians Mutual\, who will discuss their Patented Innovative Plan Med Sups and their Ancillary plans. \nRegister Today!
URL:https://nccagent.com/ncc-events/may-carrier-spotlight-physicians-mutual/
CATEGORIES:Webinars
ATTACH;FMTTYPE=image/png:https://nccagent.com/app/uploads/pm-rev.png
END:VEVENT
BEGIN:VEVENT
DTSTART;TZID=America/New_York:20230428T110000
DTEND;TZID=America/New_York:20230428T120000
DTSTAMP:20260421T002901
CREATED:20230314T141518Z
LAST-MODIFIED:20230428T132017Z
UID:10000009-1682679600-1682683200@nccagent.com
SUMMARY:NCC Agent April Town Hall
DESCRIPTION:Join the NCC team and your fellow agents for our April Town Hall to discuss local business partnerships\, and how to simplify the contracting process. Don’t miss it! \nSign Up Here!
URL:https://nccagent.com/ncc-events/ncc-agent-april-town-hall/
CATEGORIES:Webinars
END:VEVENT
BEGIN:VEVENT
DTSTART;TZID=America/New_York:20230419T120000
DTEND;TZID=America/New_York:20230419T130000
DTSTAMP:20260421T002901
CREATED:20230405T131218Z
LAST-MODIFIED:20230405T131218Z
UID:10000032-1681905600-1681909200@nccagent.com
SUMMARY:April Carrier Spotlight
DESCRIPTION:Join us for some lunchtime learning. This month we are hosting a session with Medico feature Kelly Rayburn to discuss products\, tips and tricks for positioning\, and sales ideas. Don’t miss this exciting event!
URL:https://nccagent.com/ncc-events/april-carrier-spotlight/
CATEGORIES:Webinars
END:VEVENT
BEGIN:VEVENT
DTSTART;TZID=America/New_York:20230331T110000
DTEND;TZID=America/New_York:20230331T120000
DTSTAMP:20260421T002901
CREATED:20230314T140632Z
LAST-MODIFIED:20230314T140632Z
UID:10000008-1680260400-1680264000@nccagent.com
SUMMARY:NCC Agent March Town Hall
DESCRIPTION:Join the NCC team and your fellow agents to discuss current topics in Medicare Sales. Don’t miss it! In our March Town Hall we will be chatting about our DSNP compliance corner\, DSNP sales and upcoming recruiting events – bring a friend! \nSign Up Now!
URL:https://nccagent.com/ncc-events/ncc-agent-march-town-hall/
CATEGORIES:Webinars
END:VEVENT
BEGIN:VEVENT
DTSTART;TZID=America/New_York:20230323T110000
DTEND;TZID=America/New_York:20230323T120000
DTSTAMP:20260421T002901
CREATED:20230314T140147Z
LAST-MODIFIED:20230314T140226Z
UID:10000007-1679569200-1679572800@nccagent.com
SUMMARY:Demystifying DSNPs
DESCRIPTION:Learn the ins and outs of Special Needs Plans\, where to find clients\, and how to get them enrolled. \nSign up here! 
URL:https://nccagent.com/ncc-events/demystifying-dsnps/
CATEGORIES:Webinars
ATTACH;FMTTYPE=image/png:https://nccagent.com/app/uploads/DSNP-Blog-web-1-e1678802539598.png
END:VEVENT
BEGIN:VEVENT
DTSTART;TZID=America/New_York:20230321T160000
DTEND;TZID=America/New_York:20230321T200000
DTSTAMP:20260421T002901
CREATED:20230314T135516Z
LAST-MODIFIED:20230314T135516Z
UID:10000005-1679414400-1679428800@nccagent.com
SUMMARY:Agent Networking Charlotte\, NC
DESCRIPTION:Let’s meet up at Topgolf Charlotte Southwest! Meet the NCC team and local carrier reps to learn more about the newest offerings in Medicare. Take advantage of a Q&A discussion and get the answers that you’ve been looking for. Network with other area agents and have some fun! \nRSVP Here!
URL:https://nccagent.com/ncc-events/agent-networking-charlotte-nc/
LOCATION:Topgolf Charlotte Southwest\, 8024 Savoy Corporate Dr\, Charlotte\, NC\, 28273\, United States
CATEGORIES:In-Person
END:VEVENT
BEGIN:VEVENT
DTSTART;TZID=America/New_York:20230321T100000
DTEND;TZID=America/New_York:20230321T123000
DTSTAMP:20260421T002901
CREATED:20230314T135046Z
LAST-MODIFIED:20230314T135540Z
UID:10000004-1679392800-1679401800@nccagent.com
SUMMARY:Agent Networking Wytheville\, VA
DESCRIPTION:Let’s connect at the Wytheville Golf Club! Meet the NCC team and local carrier reps to learn more about what to expect in the 2023 season. Take advantage of a Q&A discussion and get the answers that you’ve been looking for. Network with other area agents and enjoy refreshments. \nRSVP Here!
URL:https://nccagent.com/ncc-events/agent-networking-wytheville-va/
LOCATION:Wytheville Golf Club\, 1325 W Lee Hwy\, Wytheville\, VA\, 24382\, United States
CATEGORIES:In-Person
END:VEVENT
BEGIN:VEVENT
DTSTART;TZID=America/New_York:20230315T120000
DTEND;TZID=America/New_York:20230315T130000
DTSTAMP:20260421T002901
CREATED:20230308T172045Z
LAST-MODIFIED:20230314T133836Z
UID:10000003-1678881600-1678885200@nccagent.com
SUMMARY:March Carrier Spotlight : Aetna MA (TN\, NC\, & SC specific)
DESCRIPTION:Join us for some lunchtime learning. Each month we will host a session where we partner with our carriers to discuss products\, tips and tricks for positioning\, and sales ideas. \nSign Up Today! 
URL:https://nccagent.com/ncc-events/march-carrier-spotlight-aetna-ma-tn-nc-sc-specific/
CATEGORIES:Webinars
ATTACH;FMTTYPE=image/png:https://nccagent.com/app/uploads/carrier-spot-e1678801077300.png
END:VEVENT
END:VCALENDAR