BEGIN:VCALENDAR
VERSION:2.0
PRODID:-//NCC - ECPv6.15.20//NONSGML v1.0//EN
CALSCALE:GREGORIAN
METHOD:PUBLISH
X-ORIGINAL-URL:https://nccagent.com
X-WR-CALDESC:Events for NCC
REFRESH-INTERVAL;VALUE=DURATION:PT1H
X-Robots-Tag:noindex
X-PUBLISHED-TTL:PT1H
BEGIN:VTIMEZONE
TZID:America/New_York
BEGIN:DAYLIGHT
TZOFFSETFROM:-0500
TZOFFSETTO:-0400
TZNAME:EDT
DTSTART:20240310T070000
END:DAYLIGHT
BEGIN:STANDARD
TZOFFSETFROM:-0400
TZOFFSETTO:-0500
TZNAME:EST
DTSTART:20241103T060000
END:STANDARD
BEGIN:DAYLIGHT
TZOFFSETFROM:-0500
TZOFFSETTO:-0400
TZNAME:EDT
DTSTART:20250309T070000
END:DAYLIGHT
BEGIN:STANDARD
TZOFFSETFROM:-0400
TZOFFSETTO:-0500
TZNAME:EST
DTSTART:20251102T060000
END:STANDARD
BEGIN:DAYLIGHT
TZOFFSETFROM:-0500
TZOFFSETTO:-0400
TZNAME:EDT
DTSTART:20260308T070000
END:DAYLIGHT
BEGIN:STANDARD
TZOFFSETFROM:-0400
TZOFFSETTO:-0500
TZNAME:EST
DTSTART:20261101T060000
END:STANDARD
END:VTIMEZONE
BEGIN:VEVENT
DTSTART;TZID=America/New_York:20250617T100000
DTEND;TZID=America/New_York:20250617T230000
DTSTAMP:20260419T150849
CREATED:20250523T204414Z
LAST-MODIFIED:20250523T210902Z
UID:10002108-1750154400-1750201200@nccagent.com
SUMMARY:S.K.I.L.L.S Series - Medicare Sales A-Z
DESCRIPTION:Innovation That Powers Performance \nLet’s talk sales—specifically\, the step-by-step process that transforms prospects into loyal clients. In this session\, you’ll get an inside look at NCC’s proven Medicare sales cycle—from first contact to compliant enrollment. \nDiscover how top-performing agents increase their applications (and referrals) using forward-thinking\, repeatable strategies. \nWork smarter when prospecting. \n\nLearn real scripts that close real deals.\nLeverage cutting-edge tools to speed up your sales process.\n\nReserve your spot below and elevate your sales approach.  \n Register Now
URL:https://nccagent.com/ncc-events/s-k-i-l-l-s-series-medicare-sales-a-z/
CATEGORIES:Webinars
ATTACH;FMTTYPE=image/png:https://nccagent.com/app/uploads/skills-series-medicare-sales.png
END:VEVENT
BEGIN:VEVENT
DTSTART;TZID=America/New_York:20250618T150000
DTEND;TZID=America/New_York:20250618T160000
DTSTAMP:20260419T150849
CREATED:20250225T232134Z
LAST-MODIFIED:20250225T232135Z
UID:10002091-1750258800-1750262400@nccagent.com
SUMMARY:Wisdom Wednesday - Community Partnerships and Events
DESCRIPTION:Build your business by building relationships! Join our NCC team to discover how to create impactful community partnerships and host events that attract new clients and strengthen your local presence. Don’t miss this chance to learn strategies that make a lasting impression. Register now and take your business to the next level! \n  \n Register Now
URL:https://nccagent.com/ncc-events/wisdom-wednesday-community-partnerships-and-events/
CATEGORIES:Webinars
ATTACH;FMTTYPE=image/png:https://nccagent.com/app/uploads/2025-Wisdom-Wednesdays-5.png
END:VEVENT
BEGIN:VEVENT
DTSTART;TZID=America/New_York:20250619T100000
DTEND;TZID=America/New_York:20250619T110000
DTSTAMP:20260419T150849
CREATED:20250523T204705Z
LAST-MODIFIED:20250523T205935Z
UID:10002109-1750327200-1750330800@nccagent.com
SUMMARY:S.K.I.L.L.S Series - ACA 101
DESCRIPTION:Purpose-Driven Lead Generation \nSelling ACA plans can be simple—and profitable—all year long. In this session\, we’ll break down the essentials of the Affordable Care Act and show you how integrating ACA with Medicare can open up new cross-selling opportunities beyond the traditional season. New to ACA? We’ve got you covered with clear\, step-by-step guidance. \n\nUnderstand the ACA landscape and how to talk about it\nDiscover how ACA can complement your Medicare portfolio\nUnlock access to NCC’s proven lead generation tools and support\n\nSeats are limited—secure your spot below and kick-start your ACA strategy with confidence. \n\n Register Now
URL:https://nccagent.com/ncc-events/s-k-i-l-l-s-series-aca-101/
CATEGORIES:Webinars
ATTACH;FMTTYPE=image/png:https://nccagent.com/app/uploads/skills-series-aca-101.png
END:VEVENT
BEGIN:VEVENT
DTSTART;TZID=America/New_York:20250624T100000
DTEND;TZID=America/New_York:20250624T110000
DTSTAMP:20260419T150849
CREATED:20250523T205031Z
LAST-MODIFIED:20250523T210412Z
UID:10002110-1750759200-1750762800@nccagent.com
SUMMARY:S.K.I.L.L.S. Series - Working Your Natural Market
DESCRIPTION:Connections That Grow Your Business \nYour next client might already be in your circle. In this session\, you’ll learn how to recognize and engage warm opportunities around you—naturally and confidently. Discover how top agents turn casual conversations into consistent sales using ethical strategies and practical systems. \n\nGrow your business through authentic networking.\nMaster the messaging that moves people to action.\nTurn hesitation into confident commitments.\n\n  \nReserve your spot below and start building your book with intention. \n\n Register Now
URL:https://nccagent.com/ncc-events/s-k-i-l-l-s-series-working-your-natural-market/
CATEGORIES:Webinars
ATTACH;FMTTYPE=image/png:https://nccagent.com/app/uploads/skills-series-working-market.png
END:VEVENT
BEGIN:VEVENT
DTSTART;TZID=America/New_York:20250630T110000
DTEND;TZID=America/New_York:20250630T120000
DTSTAMP:20260419T150849
CREATED:20250226T212509Z
LAST-MODIFIED:20250226T212511Z
UID:10002101-1751281200-1751284800@nccagent.com
SUMMARY:NCC Agent Town Hall - Lead Generation - Guest Speaker
DESCRIPTION:Struggling to find high-quality leads? Join our expert panel\, including NCC guest speakers and top agents\, to learn lead-generation strategies that actually work. From community events to digital marketing\, you’ll discover new ways to connect with prospects and grow your client base. Whether you’re looking for fresh ideas or fine-tuning existing efforts\, this session will provide the tools and inspiration you need. Register now and take control of your lead pipeline! \n  \n Register Now\n  \n 
URL:https://nccagent.com/ncc-events/ncc-agent-town-hall-lead-generation-guest-speaker/
CATEGORIES:Webinars
ATTACH;FMTTYPE=image/png:https://nccagent.com/app/uploads/2025-Town-Halls-6.png
END:VEVENT
BEGIN:VEVENT
DTSTART;TZID=America/New_York:20250708T100000
DTEND;TZID=America/New_York:20250708T110000
DTSTAMP:20260419T150849
CREATED:20250610T150019Z
LAST-MODIFIED:20250610T150020Z
UID:10002111-1751968800-1751972400@nccagent.com
SUMMARY:S.K.I.L.L.S. Series: Welcome to NCC
DESCRIPTION:Welcome to NCC! Meet your Regional Sales Managers and learn how NCC supports you in growing your business. \n Register Now
URL:https://nccagent.com/ncc-events/s-k-i-l-l-s-series-welcome-to-ncc-2/
CATEGORIES:Webinars
ATTACH;FMTTYPE=image/png:https://nccagent.com/app/uploads/FMO-Skills-Welcome-to-NCC.png
END:VEVENT
BEGIN:VEVENT
DTSTART;TZID=America/New_York:20250715T100000
DTEND;TZID=America/New_York:20250715T110000
DTSTAMP:20260419T150849
CREATED:20250610T150045Z
LAST-MODIFIED:20250610T150046Z
UID:10002112-1752573600-1752577200@nccagent.com
SUMMARY:S.K.I.L.L.S. Training - Medicare 101 Deep Dive
DESCRIPTION:Deep dive with us in to Medicare 101 and beyond. Whether you’re new or want a refresher\, join us! \n  \n Register Now
URL:https://nccagent.com/ncc-events/s-k-i-l-l-s-training-medicare-101-deep-dive/
CATEGORIES:Webinars
ATTACH;FMTTYPE=image/png:https://nccagent.com/app/uploads/FMO-Skills-Medicare-Deep-Dive.png
END:VEVENT
BEGIN:VEVENT
DTSTART;TZID=America/New_York:20250716T150000
DTEND;TZID=America/New_York:20250716T160000
DTSTAMP:20260419T150849
CREATED:20250225T232228Z
LAST-MODIFIED:20250225T232229Z
UID:10002092-1752678000-1752681600@nccagent.com
SUMMARY:Wisdom Wednesday - Certifications and AEP readiness
DESCRIPTION:The Annual Enrollment Period (AEP) is just around the corner—are you ready? This session covers everything you need to know about AHIP\, certifications\, and preparation strategies to hit the ground running. Don’t wait until the last minute to get ready for AEP success. Register now to stay ahead of the game! \n  \n Register Now\n  \n 
URL:https://nccagent.com/ncc-events/wisdom-wednesday-certifications-and-aep-readiness/
CATEGORIES:Webinars
ATTACH;FMTTYPE=image/png:https://nccagent.com/app/uploads/2025-Wisdom-Wednesdays-6.png
END:VEVENT
BEGIN:VEVENT
DTSTART;TZID=America/New_York:20250722T100000
DTEND;TZID=America/New_York:20250722T110000
DTSTAMP:20260419T150849
CREATED:20250610T150112Z
LAST-MODIFIED:20250610T150113Z
UID:10002113-1753178400-1753182000@nccagent.com
SUMMARY:S.K.I.L.L.S. Training - Medicare Sale from A to Z
DESCRIPTION:Join us as we dive in to a compliant Medicare Sale from A to Z. Learn how to run a needs analysis and watch a live\, compliant Sales Presentation! \n  \n Register Now
URL:https://nccagent.com/ncc-events/s-k-i-l-l-s-training-medicare-sale-from-a-to-z/
CATEGORIES:Webinars
ATTACH;FMTTYPE=image/png:https://nccagent.com/app/uploads/skills-series-medicare-sales.png
END:VEVENT
BEGIN:VEVENT
DTSTART;TZID=America/New_York:20250724T100000
DTEND;TZID=America/New_York:20250724T110000
DTSTAMP:20260419T150849
CREATED:20250610T150135Z
LAST-MODIFIED:20250610T150136Z
UID:10002114-1753351200-1753354800@nccagent.com
SUMMARY:S.K.I.L.L.S. Training - ACA 101
DESCRIPTION:Join our ACA National Sales Manager\, Danielle Byers\, for a dive in to ACA! \n Register Now
URL:https://nccagent.com/ncc-events/s-k-i-l-l-s-training-aca-101/
CATEGORIES:Webinars
ATTACH;FMTTYPE=image/png:https://nccagent.com/app/uploads/skills-series-aca-101.png
END:VEVENT
BEGIN:VEVENT
DTSTART;TZID=America/New_York:20250729T100000
DTEND;TZID=America/New_York:20250729T110000
DTSTAMP:20260419T150849
CREATED:20250610T150155Z
LAST-MODIFIED:20250610T150854Z
UID:10002115-1753783200-1753786800@nccagent.com
SUMMARY:S.K.I.L.L.S. Training - Working Your Natural Market
DESCRIPTION:Join your sales team at NCC in learning how to get those first sales on the books! Working Your Natural Market is the perfect segue in to building confidence in your sales practice and learning your products. \n  \n Register Now
URL:https://nccagent.com/ncc-events/s-k-i-l-l-s-training-working-you-natural-market/
CATEGORIES:Webinars
ATTACH;FMTTYPE=image/png:https://nccagent.com/app/uploads/skills-series-working-market.png
END:VEVENT
BEGIN:VEVENT
DTSTART;TZID=America/New_York:20250731T110000
DTEND;TZID=America/New_York:20250731T120000
DTSTAMP:20260419T150849
CREATED:20250226T212553Z
LAST-MODIFIED:20250226T212554Z
UID:10002102-1753959600-1753963200@nccagent.com
SUMMARY:NCC Agent Town Hall - AEP Plan Rollout - July
DESCRIPTION:Get a head start on AEP with a detailed look at plan rollouts from top carriers! This session will highlight the latest updates\, plan benefits\, and key selling points to help you stay competitive during the busiest time of the year. Learn how to tailor these plans to your client’s unique needs and stand out in the market. Don’t miss this opportunity to set yourself up for a successful AEP. Register now and get the inside scoop! \n  \n Register Now\n  \n 
URL:https://nccagent.com/ncc-events/ncc-agent-town-hall-aep-plan-rollout-july/
CATEGORIES:Webinars
ATTACH;FMTTYPE=image/png:https://nccagent.com/app/uploads/2025-Town-Halls-7.png
END:VEVENT
BEGIN:VEVENT
DTSTART;TZID=America/New_York:20250805T100000
DTEND;TZID=America/New_York:20250805T110000
DTSTAMP:20260419T150849
CREATED:20250610T152250Z
LAST-MODIFIED:20250610T152251Z
UID:10002116-1754388000-1754391600@nccagent.com
SUMMARY:S.K.I.L.L.S. Training - Welcome to NCC!
DESCRIPTION:Hop on to meet your NCC Regional Sales Managers and learn all the ways NCC is here to support you in growing your business. \n  \n Register Now
URL:https://nccagent.com/ncc-events/s-k-i-l-l-s-training-welcome-to-ncc/
CATEGORIES:Webinars
ATTACH;FMTTYPE=image/png:https://nccagent.com/app/uploads/FMO-Skills-Welcome-to-NCC.png
END:VEVENT
BEGIN:VEVENT
DTSTART;TZID=America/New_York:20250812T100000
DTEND;TZID=America/New_York:20250812T110000
DTSTAMP:20260419T150849
CREATED:20250610T152351Z
LAST-MODIFIED:20250610T152352Z
UID:10002117-1754992800-1754996400@nccagent.com
SUMMARY:S.K.I.L.L.S. Training - Medicare 101 Deep Dive
DESCRIPTION:Join us to dive into the world of Medicare 101\, where we go beyond the basics. \n  \n Register Now
URL:https://nccagent.com/ncc-events/s-k-i-l-l-s-training-medicare-101-deep-dive-2/
CATEGORIES:Webinars
ATTACH;FMTTYPE=image/png:https://nccagent.com/app/uploads/FMO-Skills-Medicare-Deep-Dive.png
END:VEVENT
BEGIN:VEVENT
DTSTART;TZID=America/New_York:20250819T100000
DTEND;TZID=America/New_York:20250819T110000
DTSTAMP:20260419T150849
CREATED:20250610T152419Z
LAST-MODIFIED:20250610T152420Z
UID:10002118-1755597600-1755601200@nccagent.com
SUMMARY:S.K.I.L.L.S. Training - A Medicare Sale from A to Z
DESCRIPTION:Join our Sales Team as we jump in to holding a compliant Medicare Sale\, walk through a Needs Analysis and show you a live compliant Sales Presentation! \n  \n Register Now
URL:https://nccagent.com/ncc-events/s-k-i-l-l-s-training-a-medicare-sale-from-a-to-z/
CATEGORIES:Webinars
ATTACH;FMTTYPE=image/png:https://nccagent.com/app/uploads/skills-series-medicare-sales.png
END:VEVENT
BEGIN:VEVENT
DTSTART;TZID=America/New_York:20250820T150000
DTEND;TZID=America/New_York:20250820T160000
DTSTAMP:20260419T150849
CREATED:20250225T232327Z
LAST-MODIFIED:20250225T232329Z
UID:10002093-1755702000-1755705600@nccagent.com
SUMMARY:Wisdom Wednesday - AEP Plan Rollout
DESCRIPTION:Get the inside scoop on the newest AEP plans from top carriers! Join us for this exclusive session to learn about plan updates\, benefits\, and how to position them to stand out in a competitive market. These carrier spotlights will set you up for a successful enrollment season. Register now to stay informed and ready! \n  \n Register Now\n  \n 
URL:https://nccagent.com/ncc-events/wisdom-wednesday-aep-plan-rollout/
CATEGORIES:Webinars
ATTACH;FMTTYPE=image/png:https://nccagent.com/app/uploads/2025-Wisdom-Wednesdays-7.png
END:VEVENT
BEGIN:VEVENT
DTSTART;TZID=America/New_York:20250821T100000
DTEND;TZID=America/New_York:20250821T110000
DTSTAMP:20260419T150849
CREATED:20250610T152446Z
LAST-MODIFIED:20250610T152447Z
UID:10002119-1755770400-1755774000@nccagent.com
SUMMARY:S.K.I.L.L.S. Training - ACA 101
DESCRIPTION:Join our National ACA Sales Manager\, Miss Danielle Byers\, as she unpacks all you need to know to get started with ACA insurance! \n  \n Register Now
URL:https://nccagent.com/ncc-events/s-k-i-l-l-s-training-aca-101-2/
CATEGORIES:Webinars
ATTACH;FMTTYPE=image/png:https://nccagent.com/app/uploads/skills-series-aca-101.png
END:VEVENT
BEGIN:VEVENT
DTSTART;TZID=America/New_York:20250826T100000
DTEND;TZID=America/New_York:20250826T110000
DTSTAMP:20260419T150849
CREATED:20250610T152521Z
LAST-MODIFIED:20250610T152523Z
UID:10002120-1756202400-1756206000@nccagent.com
SUMMARY:S.K.I.L.L.S. Training - Working Your Natural Market!
DESCRIPTION:Join your NCC Sales Team in uncovering how to get that first Medicare sale by working your Natural Market! We’ll cover the WHY\, the WHO\, and the HOW! \n  \n Register Now
URL:https://nccagent.com/ncc-events/s-k-i-l-l-s-training-working-your-natural-market/
CATEGORIES:Webinars
ATTACH;FMTTYPE=image/png:https://nccagent.com/app/uploads/skills-series-working-market.png
END:VEVENT
BEGIN:VEVENT
DTSTART;TZID=America/New_York:20250828T100000
DTEND;TZID=America/New_York:20250828T110000
DTSTAMP:20260419T150849
CREATED:20250728T213834Z
LAST-MODIFIED:20250728T213834Z
UID:10002127-1756375200-1756378800@nccagent.com
SUMMARY:S.K.I.L.L.S. Series - Enrolment Central 2.0 - August
DESCRIPTION:Enrollment Central 2.0\, powered by Sunfire\, is your all-in-one solution for quoting\, comparing\, and enrolling your clients in Medicare Advantage\, PDP\, and more. Whether you’re brand new or just need a refresher\, this live training will walk you through everything you need to know—from contact creation to compliant enrollments. \n✅ Add and manage client contacts \n✅ Send Scope of Appointments with ease \n✅ Compare plans and quote benefits \n✅ Enroll clients directly and compliantly \n✅ Use your BlazeSync link to capture enrollee info automatically \n✅ Ask questions live and get real-time support \n  \nDon’t miss this opportunity to sharpen your skills and unlock the full potential of Enrollment Central 2.0! \nReserve your seat now—space is limited! \n  \n Register Now
URL:https://nccagent.com/ncc-events/s-k-i-l-l-s-series-enrolment-central-2-0-august/
LOCATION:Online
CATEGORIES:Webinars
ATTACH;FMTTYPE=image/png:https://nccagent.com/app/uploads/S.K.I.L.L.S-Enrollment-Central-2.0.png
END:VEVENT
BEGIN:VEVENT
DTSTART;TZID=America/New_York:20250829T110000
DTEND;TZID=America/New_York:20250829T120000
DTSTAMP:20260419T150849
CREATED:20250226T212632Z
LAST-MODIFIED:20250226T212633Z
UID:10002103-1756465200-1756468800@nccagent.com
SUMMARY:NCC Agent Town Hall - AEP Plan Rollout - August
DESCRIPTION:Get a head start on AEP with a detailed look at plan rollouts from top carriers! This session will highlight the latest updates\, plan benefits\, and key selling points to help you stay competitive during the busiest time of the year. Learn how to tailor these plans to your clients’ unique needs and stand out in the market. Don’t miss this opportunity to set yourself up for a successful AEP. Register now and get the inside scoop! \n  \n Register Now\n  \n 
URL:https://nccagent.com/ncc-events/ncc-agent-town-hall-aep-plan-rollout-august/
CATEGORIES:Webinars
ATTACH;FMTTYPE=image/png:https://nccagent.com/app/uploads/2025-Town-Halls-8.png
END:VEVENT
BEGIN:VEVENT
DTSTART;TZID=America/New_York:20250904T120000
DTEND;TZID=America/New_York:20250904T130000
DTSTAMP:20260419T150849
CREATED:20250618T141107Z
LAST-MODIFIED:20250827T130232Z
UID:10002121-1756987200-1756990800@nccagent.com
SUMMARY:Rollout Tour - Jackson\, MS
DESCRIPTION:Adventure Awaits in Jackson\, MS – Join NCC on the Journey!\nStep into the world of Medicare like never before with NCC as your guide! Meet with top carrier reps\, uncover exciting new products\, and connect with fellow agents ready to explore fresh opportunities. It’s a high-energy event packed with insight\, strategy\, and discovery. \nSecure your spot now—your adventure starts here! \n  \n11 am to 12 pm Central Time\n 
URL:https://nccagent.com/ncc-events/rollout-tour-jackson-ms/
LOCATION:Fairview Inn\, 734 Fairview St.\, Jackson\, MS\, 39202\, United States
CATEGORIES:In-Person
ATTACH;FMTTYPE=image/png:https://nccagent.com/app/uploads/rollout-2025-jackson.png
END:VEVENT
BEGIN:VEVENT
DTSTART;TZID=America/New_York:20250909T110000
DTEND;TZID=America/New_York:20250909T170000
DTSTAMP:20260419T150849
CREATED:20250618T142445Z
LAST-MODIFIED:20250618T174523Z
UID:10002125-1757415600-1757437200@nccagent.com
SUMMARY:Rollout Tour - Nashville\, TN
DESCRIPTION:Blaze a Trail with NCC in Nashville\, TN! \nForge ahead into new Medicare territory with carrier guides and a crew of fellow agents. You’ll uncover valuable updates\, strategies\, and insights that equip you for success in every season. \nClaim your seat and blaze your path today! \n  \n10 am to 4 pm Central Time\n\n\n 
URL:https://nccagent.com/ncc-events/rollout-tour-nashville-tn/
LOCATION:Kings Dining & Entertainment\, 1910 Galleria Blvd\, Suite 120\, Franklin\, 37067\, United States
CATEGORIES:In-Person
ATTACH;FMTTYPE=image/png:https://nccagent.com/app/uploads/rollout-2025-nashville.png
END:VEVENT
BEGIN:VEVENT
DTSTART;TZID=America/New_York:20250911T090000
DTEND;TZID=America/New_York:20250911T150000
DTSTAMP:20260419T150849
CREATED:20250618T141916Z
LAST-MODIFIED:20250904T181941Z
UID:10002122-1757581200-1757602800@nccagent.com
SUMMARY:Rollout Tour - Duluth\, GA
DESCRIPTION:Gear Up for an NCC Adventure in Duluth\, GA!\nAdventure is calling! Join us for a fast-paced day of discovery as we trek through the latest Medicare offerings\, meet with carriers\, and build connections that power your success. \nSign up now—your next great adventure starts here!
URL:https://nccagent.com/ncc-events/rollout-tour-duluth-ga/
LOCATION:TPC Sugarloaf\, 2595 Sugarloaf Club Dr\, Duluth\, GA\, 30097\, United States
CATEGORIES:In-Person
ATTACH;FMTTYPE=image/png:https://nccagent.com/app/uploads/rollout-2025-duluth.png
END:VEVENT
BEGIN:VEVENT
DTSTART;TZID=America/New_York:20250916T100000
DTEND;TZID=America/New_York:20250916T150000
DTSTAMP:20260419T150849
CREATED:20250618T142041Z
LAST-MODIFIED:20250618T142042Z
UID:10002123-1758016800-1758034800@nccagent.com
SUMMARY:Rollout Tour - Johnson City\, TN
DESCRIPTION:Embark on a Medicare Adventure with NCC in Johnson City\, TN!\nPack your bags for a journey through the latest Medicare products and services! Meet carrier reps\, navigate new opportunities\, and connect with fellow agents ready to explore uncharted territory. \nRegister now and start your adventure!
URL:https://nccagent.com/ncc-events/rollout-tour-johnson-city-tn/
LOCATION:Johnson City Carnegie Hotel\, 1216 W State of Franklin Rd\, Johnson City\, TN\, 37604\, United States
CATEGORIES:In-Person
ATTACH;FMTTYPE=image/png:https://nccagent.com/app/uploads/rollout-2025-johnson.png
END:VEVENT
BEGIN:VEVENT
DTSTART;TZID=America/New_York:20250917T150000
DTEND;TZID=America/New_York:20250917T160000
DTSTAMP:20260419T150849
CREATED:20250225T232506Z
LAST-MODIFIED:20250917T143815Z
UID:10002094-1758121200-1758124800@nccagent.com
SUMMARY:Wisdom Wednesday - Canceled
DESCRIPTION:The lead up to AEP is fast and furious and we have decided to make a last minute cancellation to ensure we are respectful of your time. \n  \n  \n  \n 
URL:https://nccagent.com/ncc-events/wisdom-wednesday-aep-plan-rollout-2/
CATEGORIES:Webinars
ATTACH;FMTTYPE=image/png:https://nccagent.com/app/uploads/Event-Canceled.png
END:VEVENT
BEGIN:VEVENT
DTSTART;TZID=America/New_York:20250918T100000
DTEND;TZID=America/New_York:20250918T110000
DTSTAMP:20260419T150849
CREATED:20250728T214020Z
LAST-MODIFIED:20250728T214021Z
UID:10002128-1758189600-1758193200@nccagent.com
SUMMARY:S.K.I.L.L.S. Series - Enrolment Central 2.0 - September
DESCRIPTION:Enrollment Central 2.0\, powered by Sunfire\, is your all-in-one solution for quoting\, comparing\, and enrolling your clients in Medicare Advantage\, PDP\, and more. Whether you’re brand new or just need a refresher\, this live training will walk you through everything you need to know—from contact creation to compliant enrollments. \n✅ Add and manage client contacts \n✅ Send Scope of Appointments with ease \n✅ Compare plans and quote benefits \n✅ Enroll clients directly and compliantly \n✅ Use your BlazeSync link to capture enrollee info automatically \n✅ Ask questions live and get real-time support \n  \nDon’t miss this opportunity to sharpen your skills and unlock the full potential of Enrollment Central 2.0! \nReserve your seat now—space is limited! \n  \n Register Now
URL:https://nccagent.com/ncc-events/s-k-i-l-l-s-series-enrolment-central-2-0-september/
LOCATION:Online
CATEGORIES:Webinars
ATTACH;FMTTYPE=image/png:https://nccagent.com/app/uploads/S.K.I.L.L.S-Enrollment-Central-2.0.png
END:VEVENT
BEGIN:VEVENT
DTSTART;TZID=America/New_York:20250924T100000
DTEND;TZID=America/New_York:20250924T160000
DTSTAMP:20260419T150849
CREATED:20250708T130515Z
LAST-MODIFIED:20250708T131048Z
UID:10002126-1758708000-1758729600@nccagent.com
SUMMARY:Rollout Tour - Knoxville\, TN
DESCRIPTION:Blaze a New Course with NCC in Knoxville\, TN! Set out with us as we explore bold new horizons in Medicare! With carrier reps as your guides and a team of local agents by your side\, you’ll gain tools and insights to lead the way in your market. Register below and let the adventure begin!
URL:https://nccagent.com/ncc-events/rollout-tour-knoxville-tn/
LOCATION:Topgolf Knoxville\, 11400 Outlet Dr\, Farragut\, Knoxville\, 37932\, United States
CATEGORIES:In-Person
ATTACH;FMTTYPE=image/png:https://nccagent.com/app/uploads/rollout-2025-knoxville.png
END:VEVENT
BEGIN:VEVENT
DTSTART;TZID=America/New_York:20250930T110000
DTEND;TZID=America/New_York:20250930T120000
DTSTAMP:20260419T150849
CREATED:20250226T212713Z
LAST-MODIFIED:20250226T212715Z
UID:10002104-1759230000-1759233600@nccagent.com
SUMMARY:NCC Agent Town Hall - Make The Most of Your AEP
DESCRIPTION:AEP is almost here—are you maximizing every opportunity? Join us in this session packed with strategies to streamline your processes\, manage your time effectively\, and connect with more clients. Learn how to stay organized\, handle objections\, and close more sales without feeling overwhelmed. This town hall will help you stay focused and productive throughout the enrollment period. Register now to make this AEP your best one yet! \n  \n Register Now\n  \n 
URL:https://nccagent.com/ncc-events/ncc-agent-town-hall-make-the-most-of-your-aep/
CATEGORIES:Webinars
ATTACH;FMTTYPE=image/png:https://nccagent.com/app/uploads/2025-Town-Halls-9.png
END:VEVENT
BEGIN:VEVENT
DTSTART;TZID=America/New_York:20251015T150000
DTEND;TZID=America/New_York:20251015T160000
DTSTAMP:20260419T150849
CREATED:20250225T232601Z
LAST-MODIFIED:20250225T232602Z
UID:10002095-1760540400-1760544000@nccagent.com
SUMMARY:Wisdom Wednesday - AEP KICKOFF!!!
DESCRIPTION:It’s time to kick off AEP with confidence! Join us for this energizing session packed with tips\, tools\, and strategies to make the most of the busiest time of year. We’ll help you focus your efforts\, stay organized\, and maximize your success. Register now and start AEP strong! \n  \n Register Now\n  \n 
URL:https://nccagent.com/ncc-events/wisdom-wednesday-aep-kickoff/
CATEGORIES:Webinars
ATTACH;FMTTYPE=image/png:https://nccagent.com/app/uploads/2025-Wisdom-Wednesdays-9.png
END:VEVENT
BEGIN:VEVENT
DTSTART;TZID=America/New_York:20251031T110000
DTEND;TZID=America/New_York:20251031T120000
DTSTAMP:20260419T150849
CREATED:20250226T212815Z
LAST-MODIFIED:20251030T165647Z
UID:10002105-1761908400-1761912000@nccagent.com
SUMMARY:NCC Agent Town Hall - AEP Recap & Helpful Hints
DESCRIPTION:Help your clients protect their finances with cancer plans that provide critical coverage when they need it most. In this session\, we’ll spotlight a top carrier and show you how to position and sell these plans effectively. Gain valuable insights to enhance your client relationships and boost your income. Register now to learn more! \n  \n Register Now\n  \n  \n  \n 
URL:https://nccagent.com/ncc-events/ncc-agent-town-hall-aep-recap-helpful-hints/
CATEGORIES:Webinars
ATTACH;FMTTYPE=image/png:https://nccagent.com/app/uploads/2025-Town-Halls-10.png
END:VEVENT
END:VCALENDAR