BEGIN:VCALENDAR
VERSION:2.0
PRODID:-//NCC - ECPv6.15.20//NONSGML v1.0//EN
CALSCALE:GREGORIAN
METHOD:PUBLISH
X-WR-CALNAME:NCC
X-ORIGINAL-URL:https://nccagent.com
X-WR-CALDESC:Events for NCC
REFRESH-INTERVAL;VALUE=DURATION:PT1H
X-Robots-Tag:noindex
X-PUBLISHED-TTL:PT1H
BEGIN:VTIMEZONE
TZID:America/New_York
BEGIN:DAYLIGHT
TZOFFSETFROM:-0500
TZOFFSETTO:-0400
TZNAME:EDT
DTSTART:20220313T070000
END:DAYLIGHT
BEGIN:STANDARD
TZOFFSETFROM:-0400
TZOFFSETTO:-0500
TZNAME:EST
DTSTART:20221106T060000
END:STANDARD
BEGIN:DAYLIGHT
TZOFFSETFROM:-0500
TZOFFSETTO:-0400
TZNAME:EDT
DTSTART:20230312T070000
END:DAYLIGHT
BEGIN:STANDARD
TZOFFSETFROM:-0400
TZOFFSETTO:-0500
TZNAME:EST
DTSTART:20231105T060000
END:STANDARD
BEGIN:DAYLIGHT
TZOFFSETFROM:-0500
TZOFFSETTO:-0400
TZNAME:EDT
DTSTART:20240310T070000
END:DAYLIGHT
BEGIN:STANDARD
TZOFFSETFROM:-0400
TZOFFSETTO:-0500
TZNAME:EST
DTSTART:20241103T060000
END:STANDARD
BEGIN:DAYLIGHT
TZOFFSETFROM:-0500
TZOFFSETTO:-0400
TZNAME:EDT
DTSTART:20250309T070000
END:DAYLIGHT
BEGIN:STANDARD
TZOFFSETFROM:-0400
TZOFFSETTO:-0500
TZNAME:EST
DTSTART:20251102T060000
END:STANDARD
END:VTIMEZONE
BEGIN:VEVENT
DTSTART;TZID=America/New_York:20240604T140000
DTEND;TZID=America/New_York:20240604T150000
DTSTAMP:20260420T024057
CREATED:20240320T134715Z
LAST-MODIFIED:20240620T015045Z
UID:10000108-1717509600-1717513200@nccagent.com
SUMMARY:New Agent Onboarding Part 2 - Medicare 101
DESCRIPTION:Medicare 101 – Embark on a learning adventure with our upcoming webinar\, “Medicare 101\,” where we unravel the A\, B\, D\,  and C’s of Medicare!  Join us for an insightful session delving into the essence of Medicare\, equipping you with the knowledge to build your business effectively. Together\, let’s navigate the maze of Medicare and empower others with the understanding they need. \n\nSecure your spot below.  We can’t wait to connect with you soon! \n Register Now\n\n 
URL:https://nccagent.com/ncc-events/new-agent-onboarding-part-2-medicare-101-2/2024-06-04/
CATEGORIES:Webinars
END:VEVENT
BEGIN:VEVENT
DTSTART;TZID=America/New_York:20240530T140000
DTEND;TZID=America/New_York:20240530T150000
DTSTAMP:20260420T024058
CREATED:20240318T201734Z
LAST-MODIFIED:20240620T015106Z
UID:10000099-1717077600-1717081200@nccagent.com
SUMMARY:New Agent Onboarding Part 1 - Welcome to NCC
DESCRIPTION:Welcome to NCC – Join us every last Thursday of the month as our sales development team welcomes you to NCC. Part 1 of our New Agent Onboarding Series is your introduction to the team\, offering insights into how we can support your business growth. Explore a comprehensive overview of the myriad tools and resources at your disposal within the NCC ecosystem\, ensuring you are equipped for success. \n\nSecure your spot below. We can’t wait to connect with you soon! \n Register Now\n\n\n\n\n 
URL:https://nccagent.com/ncc-events/new-agent-onboarding-part-1-welcome-to-ncc-2/2024-05-30/
CATEGORIES:Webinars
END:VEVENT
BEGIN:VEVENT
DTSTART;TZID=America/New_York:20240528T140000
DTEND;TZID=America/New_York:20240528T150000
DTSTAMP:20260420T024058
CREATED:20240320T131317Z
LAST-MODIFIED:20240620T015056Z
UID:10000159-1716904800-1716908400@nccagent.com
SUMMARY:New Agent Onboarding Part 5 - Working Your Natural Market
DESCRIPTION:Working Your Natural Market – Where do I get beneficiaries to talk to? One of the best ways is one you haven’t thought of yet. Your natural market. Join us to learn where to start and how to grow you business organically. \nSecure your spot by signing up below. We can’t wait to connect with you soon! \n Register Now
URL:https://nccagent.com/ncc-events/new-agent-onboarding-part-5-working-your-natural-market-2-2/2024-05-28/
CATEGORIES:Webinars
END:VEVENT
BEGIN:VEVENT
DTSTART;TZID=America/New_York:20240516T140000
DTEND;TZID=America/New_York:20240516T150000
DTSTAMP:20260420T024058
CREATED:20240320T132253Z
LAST-MODIFIED:20240620T015100Z
UID:10000152-1715868000-1715871600@nccagent.com
SUMMARY:New Agent Onboarding Part 4 - ACA 101
DESCRIPTION:ACA 101 – Affordable Care Act. What is it? Join our ACA team as they introduce you to how to get started in ACA. You’ll also learn how it can be a great addition to your growing business. \nSecure your spot below. We can’t wait to connect with you soon! \n Register Now
URL:https://nccagent.com/ncc-events/aca-101-affordable-care-act-2-3/
CATEGORIES:Webinars
END:VEVENT
BEGIN:VEVENT
DTSTART;TZID=America/New_York:20240507T140000
DTEND;TZID=America/New_York:20240507T150000
DTSTAMP:20260420T024058
CREATED:20240320T134715Z
LAST-MODIFIED:20240620T015045Z
UID:10000107-1715090400-1715094000@nccagent.com
SUMMARY:New Agent Onboarding Part 2 - Medicare 101
DESCRIPTION:Medicare 101 – Embark on a learning adventure with our upcoming webinar\, “Medicare 101\,” where we unravel the A\, B\, D\,  and C’s of Medicare!  Join us for an insightful session delving into the essence of Medicare\, equipping you with the knowledge to build your business effectively. Together\, let’s navigate the maze of Medicare and empower others with the understanding they need. \n\nSecure your spot below.  We can’t wait to connect with you soon! \n Register Now\n\n 
URL:https://nccagent.com/ncc-events/new-agent-onboarding-part-2-medicare-101-2/2024-05-07/
CATEGORIES:Webinars
END:VEVENT
BEGIN:VEVENT
DTSTART;TZID=America/New_York:20240425T140000
DTEND;TZID=America/New_York:20240425T150000
DTSTAMP:20260420T024058
CREATED:20240318T204247Z
LAST-MODIFIED:20240620T015041Z
UID:10000098-1714053600-1714057200@nccagent.com
SUMMARY:New Agent Onboarding Part 1 - Welcome to NCC
DESCRIPTION:Welcome to NCC – Join us every last Thursday of the month as our sales development team welcomes you to NCC. Part 1 of our New Agent Onboarding Series is your introduction to the team\, offering insights into how we can support your business growth. Explore a comprehensive overview of the myriad tools and resources at your disposal within the NCC ecosystem\, ensuring you are equipped for success. \n\nSecure your spot below. We can’t wait to connect with you soon! \n\n Register Now\n\n\n\n 
URL:https://nccagent.com/ncc-events/new-agent-onboarding-part-1-welcome-to-ncc-3/2024-04-25/
CATEGORIES:Webinars
END:VEVENT
BEGIN:VEVENT
DTSTART;TZID=America/New_York:20240423T140000
DTEND;TZID=America/New_York:20240423T150000
DTSTAMP:20260420T024058
CREATED:20240320T131317Z
LAST-MODIFIED:20240620T015056Z
UID:10000158-1713880800-1713884400@nccagent.com
SUMMARY:New Agent Onboarding Part 5 - Working Your Natural Market
DESCRIPTION:Working Your Natural Market – Where do I get beneficiaries to talk to? One of the best ways is one you haven’t thought of yet. Your natural market. Join us to learn where to start and how to grow you business organically. \nSecure your spot by signing up below. We can’t wait to connect with you soon! \n Register Now
URL:https://nccagent.com/ncc-events/new-agent-onboarding-part-5-working-your-natural-market-2-2/2024-04-23/
CATEGORIES:Webinars
END:VEVENT
BEGIN:VEVENT
DTSTART;TZID=America/New_York:20240411T140000
DTEND;TZID=America/New_York:20240411T150000
DTSTAMP:20260420T024058
CREATED:20240320T132222Z
LAST-MODIFIED:20240620T015050Z
UID:10000151-1712844000-1712847600@nccagent.com
SUMMARY:New Agent Onboarding Part 4 - ACA 101
DESCRIPTION:ACA 101 – Affordable Care Act. What is it? Join our ACA team as they introduce you to how to get started in ACA. You’ll also learn how it can be a great addition to your growing business. \nSecure your spot below. We can’t wait to connect with you soon! \n Register Now
URL:https://nccagent.com/ncc-events/aca-101-affordable-care-act-2-2/
CATEGORIES:Webinars
END:VEVENT
BEGIN:VEVENT
DTSTART;TZID=America/New_York:20240402T140000
DTEND;TZID=America/New_York:20240402T150000
DTSTAMP:20260420T024058
CREATED:20240320T134715Z
LAST-MODIFIED:20240620T015045Z
UID:10000106-1712066400-1712070000@nccagent.com
SUMMARY:New Agent Onboarding Part 2 - Medicare 101
DESCRIPTION:Medicare 101 – Embark on a learning adventure with our upcoming webinar\, “Medicare 101\,” where we unravel the A\, B\, D\,  and C’s of Medicare!  Join us for an insightful session delving into the essence of Medicare\, equipping you with the knowledge to build your business effectively. Together\, let’s navigate the maze of Medicare and empower others with the understanding they need. \n\nSecure your spot below.  We can’t wait to connect with you soon! \n Register Now\n\n 
URL:https://nccagent.com/ncc-events/new-agent-onboarding-part-2-medicare-101-2/2024-04-02/
CATEGORIES:Webinars
END:VEVENT
BEGIN:VEVENT
DTSTART;TZID=America/New_York:20240328T140000
DTEND;TZID=America/New_York:20240328T150000
DTSTAMP:20260420T024058
CREATED:20240318T204247Z
LAST-MODIFIED:20240620T015041Z
UID:10000097-1711634400-1711638000@nccagent.com
SUMMARY:New Agent Onboarding Part 1 - Welcome to NCC
DESCRIPTION:Welcome to NCC – Join us every last Thursday of the month as our sales development team welcomes you to NCC. Part 1 of our New Agent Onboarding Series is your introduction to the team\, offering insights into how we can support your business growth. Explore a comprehensive overview of the myriad tools and resources at your disposal within the NCC ecosystem\, ensuring you are equipped for success. \n\nSecure your spot below. We can’t wait to connect with you soon! \n\n Register Now\n\n\n\n 
URL:https://nccagent.com/ncc-events/new-agent-onboarding-part-1-welcome-to-ncc-3/2024-03-28/
CATEGORIES:Webinars
END:VEVENT
BEGIN:VEVENT
DTSTART;TZID=America/New_York:20240326T140000
DTEND;TZID=America/New_York:20240326T150000
DTSTAMP:20260420T024058
CREATED:20240320T122512Z
LAST-MODIFIED:20240620T015036Z
UID:10000128-1711461600-1711465200@nccagent.com
SUMMARY:New Agent Onboarding Part 5 - Working Your Natural Market
DESCRIPTION:Working Your Natural Market – Where do I get beneficiaries to talk to? One of the best ways is one you haven’t thought of yet. Your natural market. Join us to learn where to start and how to grow you business organically. \nSecure your spot by signing up below. We can’t wait to connect with you soon! \n Reserve Now
URL:https://nccagent.com/ncc-events/new-agent-onboarding-part-5-working-your-natural-market-2/
CATEGORIES:Webinars
END:VEVENT
BEGIN:VEVENT
DTSTART;TZID=America/New_York:20240314T140000
DTEND;TZID=America/New_York:20240314T150000
DTSTAMP:20260420T024058
CREATED:20240313T190627Z
LAST-MODIFIED:20240620T015030Z
UID:10000136-1710424800-1710428400@nccagent.com
SUMMARY:New Agent Onboarding Part 4 - ACA 101
DESCRIPTION:ACA 101 – Affordable Care Act. What is it? Join our ACA team as they introduce you to how to get started in ACA. You’ll also learn how it can be a great addition to your growing business. \nSecure your spot below. We can’t wait to connect with you soon! \n Reserve Now
URL:https://nccagent.com/ncc-events/aca-101-affordable-care-act-2/
CATEGORIES:Webinars
END:VEVENT
BEGIN:VEVENT
DTSTART;TZID=America/New_York:20240312T140000
DTEND;TZID=America/New_York:20240312T150000
DTSTAMP:20260420T024058
CREATED:20240111T182716Z
LAST-MODIFIED:20240620T015002Z
UID:10000113-1710252000-1710255600@nccagent.com
SUMMARY:New Agent Onboarding Part 3 - Closing a Medicare Sale
DESCRIPTION:Closing a Medicare Sale – Now that you know all about Medicare\, how do you run your appointment? This session will teach you how to open\, review\, and close a Medicare Sale. Learn several tips and tricks from our experts on the Sales Development Team. \nReserve your spot below. We look forward to sharing with you soon! \n Reserve Now\n  \n 
URL:https://nccagent.com/ncc-events/new-agent-onboarding-part-3-closing-a-medicare-sale/2024-03-12/
LOCATION:Online
CATEGORIES:Webinars
END:VEVENT
BEGIN:VEVENT
DTSTART;TZID=America/New_York:20240305T140000
DTEND;TZID=America/New_York:20240305T150000
DTSTAMP:20260420T024058
CREATED:20240111T174351Z
LAST-MODIFIED:20240620T014954Z
UID:10000105-1709647200-1709650800@nccagent.com
SUMMARY:New Agent Onboarding Part 2 - Medicare 101
DESCRIPTION:Medicare 101 – Embark on a learning adventure with our upcoming webinar\, “Medicare 101\,” where we unravel the A\, B\, D\,  and C’s of Medicare!  Join us for an insightful session delving into the essence of Medicare\, equipping you with the knowledge to build your business effectively. Together\, let’s navigate the maze of Medicare and empower others with the understanding they need. \n\nSecure your spot below.  We can’t wait to connect with you soon! \n Reserve Now\n\n 
URL:https://nccagent.com/ncc-events/new-agent-onboarding-part-2-medicare-101/2024-03-05/
LOCATION:Online
CATEGORIES:Webinars
END:VEVENT
BEGIN:VEVENT
DTSTART;TZID=America/New_York:20240229T110000
DTEND;TZID=America/New_York:20240229T150000
DTSTAMP:20260420T024058
CREATED:20240227T193654Z
LAST-MODIFIED:20240620T015021Z
UID:10000150-1709204400-1709218800@nccagent.com
SUMMARY:Leap Into Learning
DESCRIPTION:Interested in knowing more about how ancillary products can help you grow your business? Join us for an afternoon of learning as we host several sessions with some of the top carriers in the market. Join all sessions or just one. It’s up to you! \n  \n Register Now\n  \n 
URL:https://nccagent.com/ncc-events/leap-into-learning/
LOCATION:Online
CATEGORIES:Webinars
END:VEVENT
BEGIN:VEVENT
DTSTART;TZID=America/New_York:20240222T140000
DTEND;TZID=America/New_York:20240222T150000
DTSTAMP:20260420T024058
CREATED:20240111T150211Z
LAST-MODIFIED:20240620T014936Z
UID:10000096-1708610400-1708614000@nccagent.com
SUMMARY:New Agent Onboarding Part 1 - Welcome to NCC
DESCRIPTION:Welcome to NCC – Join us every last Thursday of the month as our sales development team welcomes you to NCC. Part 1 of our New Agent Onboarding Series is your introduction to the team\, offering insights into how we can support your business growth. Explore a comprehensive overview of the myriad tools and resources at your disposal within the NCC ecosystem\, ensuring you are equipped for success. \n\nSecure your spot below. We can’t wait to connect with you soon! \n  \n\n\n\n\n 
URL:https://nccagent.com/ncc-events/new-agent-onboarding-part-1-welcome-to-ncc/2024-02-22/
LOCATION:Online
CATEGORIES:Webinars
END:VEVENT
BEGIN:VEVENT
DTSTART;TZID=America/New_York:20240220T140000
DTEND;TZID=America/New_York:20240220T150000
DTSTAMP:20260420T024058
CREATED:20240111T203834Z
LAST-MODIFIED:20240620T015011Z
UID:10000127-1708437600-1708441200@nccagent.com
SUMMARY:New Agent Onboarding Part 5 - Working Your Natural Market
DESCRIPTION:Working Your Natural Market – Where do I get beneficiaries to talk to? One of the best ways is one you haven’t thought of yet. Your natural market. Join us to learn where to start and how to grow you business organically. \nSecure your spot by signing up below. We can’t wait to connect with you soon! \n Reserve Now
URL:https://nccagent.com/ncc-events/new-agent-onboarding-part-5-working-your-natural-market/
LOCATION:Online
CATEGORIES:Webinars
END:VEVENT
BEGIN:VEVENT
DTSTART;TZID=America/New_York:20240215T140000
DTEND;TZID=America/New_York:20240215T150000
DTSTAMP:20260420T024058
CREATED:20240111T200721Z
LAST-MODIFIED:20240620T015006Z
UID:10000135-1708005600-1708009200@nccagent.com
SUMMARY:New Agent Onboarding Part 4 - ACA 101
DESCRIPTION:ACA 101 – Affordable Care Act. What is it? Join our ACA team as they introduce you to how to get started in ACA. You’ll also learn how it can be a great addition to your growing business. \nSecure your spot below. We can’t wait to connect with you soon! \n Reserve Now
URL:https://nccagent.com/ncc-events/aca-101-affordable-care-act/
LOCATION:Online
CATEGORIES:Webinars
END:VEVENT
BEGIN:VEVENT
DTSTART;TZID=America/New_York:20240213T140000
DTEND;TZID=America/New_York:20240213T150000
DTSTAMP:20260420T024058
CREATED:20240111T182716Z
LAST-MODIFIED:20240620T015002Z
UID:10000112-1707832800-1707836400@nccagent.com
SUMMARY:New Agent Onboarding Part 3 - Closing a Medicare Sale
DESCRIPTION:Closing a Medicare Sale – Now that you know all about Medicare\, how do you run your appointment? This session will teach you how to open\, review\, and close a Medicare Sale. Learn several tips and tricks from our experts on the Sales Development Team. \nReserve your spot below. We look forward to sharing with you soon! \n Reserve Now\n  \n 
URL:https://nccagent.com/ncc-events/new-agent-onboarding-part-3-closing-a-medicare-sale/2024-02-13/
LOCATION:Online
CATEGORIES:Webinars
END:VEVENT
BEGIN:VEVENT
DTSTART;TZID=America/New_York:20240206T140000
DTEND;TZID=America/New_York:20240206T150000
DTSTAMP:20260420T024058
CREATED:20240111T174351Z
LAST-MODIFIED:20240620T014954Z
UID:10000104-1707228000-1707231600@nccagent.com
SUMMARY:New Agent Onboarding Part 2 - Medicare 101
DESCRIPTION:Medicare 101 – Embark on a learning adventure with our upcoming webinar\, “Medicare 101\,” where we unravel the A\, B\, D\,  and C’s of Medicare!  Join us for an insightful session delving into the essence of Medicare\, equipping you with the knowledge to build your business effectively. Together\, let’s navigate the maze of Medicare and empower others with the understanding they need. \n\nSecure your spot below.  We can’t wait to connect with you soon! \n Reserve Now\n\n 
URL:https://nccagent.com/ncc-events/new-agent-onboarding-part-2-medicare-101/2024-02-06/
LOCATION:Online
CATEGORIES:Webinars
END:VEVENT
BEGIN:VEVENT
DTSTART;TZID=America/New_York:20240131T110000
DTEND;TZID=America/New_York:20240131T120000
DTSTAMP:20260420T024058
CREATED:20231220T195039Z
LAST-MODIFIED:20240620T014942Z
UID:10000074-1706698800-1706702400@nccagent.com
SUMMARY:Town Hall
DESCRIPTION:Join us for an upcoming Town Hall event that promises to be engaging and insightful. This is your chance to unite with us\, exchange valuable insights\, and delve into the latest Medicare topics shaping our discussions. \nSecure your spot for this month’s Town Hall by signing up here. We can’t wait to connect with you soon! \n  \n Register Now\n  \n 
URL:https://nccagent.com/ncc-events/town-hall/
LOCATION:Online
CATEGORIES:Webinars
END:VEVENT
BEGIN:VEVENT
DTSTART;TZID=America/New_York:20240125T140000
DTEND;TZID=America/New_York:20240125T150000
DTSTAMP:20260420T024058
CREATED:20240111T150211Z
LAST-MODIFIED:20240620T014936Z
UID:10000095-1706191200-1706194800@nccagent.com
SUMMARY:New Agent Onboarding Part 1 - Welcome to NCC
DESCRIPTION:Welcome to NCC – Join us every last Thursday of the month as our sales development team welcomes you to NCC. Part 1 of our New Agent Onboarding Series is your introduction to the team\, offering insights into how we can support your business growth. Explore a comprehensive overview of the myriad tools and resources at your disposal within the NCC ecosystem\, ensuring you are equipped for success. \n\nSecure your spot below. We can’t wait to connect with you soon! \n  \n\n\n\n\n 
URL:https://nccagent.com/ncc-events/new-agent-onboarding-part-1-welcome-to-ncc/2024-01-25/
LOCATION:Online
CATEGORIES:Webinars
END:VEVENT
BEGIN:VEVENT
DTSTART;TZID=America/New_York:20231031T110000
DTEND;TZID=America/New_York:20231031T120000
DTSTAMP:20260420T024058
CREATED:20231011T205114Z
LAST-MODIFIED:20231011T205114Z
UID:10000071-1698750000-1698753600@nccagent.com
SUMMARY:NCC October Agent Town Hall
DESCRIPTION:Join the NCC team and your fellow agents to discuss all things AEP. \nSign Up!
URL:https://nccagent.com/ncc-events/ncc-october-agent-town-hall/
CATEGORIES:Webinars
END:VEVENT
BEGIN:VEVENT
DTSTART;TZID=America/New_York:20230929T110000
DTEND;TZID=America/New_York:20230929T120000
DTSTAMP:20260420T024058
CREATED:20230913T203617Z
LAST-MODIFIED:20230913T203617Z
UID:10000070-1695985200-1695988800@nccagent.com
SUMMARY:NCC September Agent Town Hall
DESCRIPTION:Join the NCC team and your fellow agents to discuss last minute AEP reminders. \nSign Up!
URL:https://nccagent.com/ncc-events/ncc-september-agent-town-hall/
CATEGORIES:Webinars
END:VEVENT
BEGIN:VEVENT
DTSTART;TZID=America/New_York:20230921T100000
DTEND;TZID=America/New_York:20230921T160000
DTSTAMP:20260420T024058
CREATED:20230504T202543Z
LAST-MODIFIED:20230725T195531Z
UID:10000041-1695290400-1695312000@nccagent.com
SUMMARY:Rollout Tour Knoxville
DESCRIPTION:Meet the NCC team and carrier reps at our main office to learn all the details about the latest in Medicare products and services. Take advantage of the Q&A discussion to get answers to your questions. Enjoy lunch with us provided by Kelly’s Kitchen of Knoxville. \nRegister Below!
URL:https://nccagent.com/ncc-events/rollout-tour-knoxville/
LOCATION:National Contracting Center\, 10201 Parkside Dr\, Knoxville\, TN\, 37922\, United States
CATEGORIES:In-Person
ATTACH;FMTTYPE=image/png:https://nccagent.com/app/uploads/knoxville-1.png
END:VEVENT
BEGIN:VEVENT
DTSTART;TZID=America/New_York:20230919T110000
DTEND;TZID=America/New_York:20230919T170000
DTSTAMP:20260420T024058
CREATED:20230509T201942Z
LAST-MODIFIED:20230725T195402Z
UID:10000045-1695121200-1695142800@nccagent.com
SUMMARY:Rollout Tour Jackson
DESCRIPTION:Join us at the Fairview Inn and get to know the NCC team\, and local carrier reps. Learn more about the newest in Medicare products and services\, network with other area agents\, and have some fun! \nRegister Below!
URL:https://nccagent.com/ncc-events/rollout-tour-jackson/
LOCATION:Fairview Inn\, 734 Fairview St.\, Jackson\, MS\, 39202\, United States
CATEGORIES:In-Person
ATTACH;FMTTYPE=image/png:https://nccagent.com/app/uploads/jackson.png
END:VEVENT
BEGIN:VEVENT
DTSTART;TZID=America/New_York:20230914T100000
DTEND;TZID=America/New_York:20230914T160000
DTSTAMP:20260420T024058
CREATED:20230509T192022Z
LAST-MODIFIED:20230725T195213Z
UID:10000044-1694685600-1694707200@nccagent.com
SUMMARY:Rollout Tour Johnson City 2023
DESCRIPTION:Join the NCC team and our local carrier reps at Johnson City Country Club\, in Johnson City\, TN to discuss the newest in Medicare products and services\, and network with other area agents! \nRegister Today!
URL:https://nccagent.com/ncc-events/rollout-tour-johnson-city-2023/
LOCATION:Johnson City Country Club\, 1901 E Unaka Ave\,\, Johnson City\, TN\, 37601\, United States
CATEGORIES:In-Person
ATTACH;FMTTYPE=image/png:https://nccagent.com/app/uploads/jc.png
END:VEVENT
BEGIN:VEVENT
DTSTART;TZID=America/New_York:20230913T100000
DTEND;TZID=America/New_York:20230913T160000
DTSTAMP:20260420T024058
CREATED:20230509T182106Z
LAST-MODIFIED:20230830T163222Z
UID:10000043-1694599200-1694620800@nccagent.com
SUMMARY:Rollout Tour Gainesville
DESCRIPTION:Let’s connect in Gainesville\, GA at the Atlanta Botanical Garden\, GAINESVILLE to discuss the newest in Medicare offerings with local carrier reps\, network with other area agents\, and have some fun! \nRegister Below!
URL:https://nccagent.com/ncc-events/rollout-tour-gainesville/
LOCATION:Atlanta Botanical Garden\, GAINESVILLE\, 1911 Sweetbay Dr\,\, Gainesville\, GA\, 30501\, United States
CATEGORIES:In-Person
ATTACH;FMTTYPE=image/png:https://nccagent.com/app/uploads/gaines-rev.png
END:VEVENT
BEGIN:VEVENT
DTSTART;TZID=America/New_York:20230912T100000
DTEND;TZID=America/New_York:20230912T160000
DTSTAMP:20260420T024058
CREATED:20230509T174804Z
LAST-MODIFIED:20230824T160319Z
UID:10000042-1694512800-1694534400@nccagent.com
SUMMARY:Rollout Tour Macon
DESCRIPTION:Let’s meet up in Macon\, GA at the Piedmont Brewery and Kitchen\, to discuss the newest in Medicare products and services with local carrier reps\, network with other area agents\, and have some fun! \nRegister Below!
URL:https://nccagent.com/ncc-events/rollout-tour-macon/
LOCATION:Piedmont Brewery and Kitchen\, 450-B 3rd St\,\, Macon\, 31201\, United States
CATEGORIES:In-Person
ATTACH;FMTTYPE=image/png:https://nccagent.com/app/uploads/macon5-9.png
END:VEVENT
BEGIN:VEVENT
DTSTART;TZID=America/New_York:20230907T100000
DTEND;TZID=America/New_York:20230907T160000
DTSTAMP:20260420T024058
CREATED:20230504T200236Z
LAST-MODIFIED:20230725T191953Z
UID:10000040-1694080800-1694102400@nccagent.com
SUMMARY:Rollout Tour Wytheville
DESCRIPTION:Let’s meet up in Wytheville\, VA at the Wytheville Golf Club\, to discuss the newest in Medicare offerings with local carrier reps\, network with other area agents\, and have some fun! \nRegister Below!
URL:https://nccagent.com/ncc-events/rollout-tour-wytheville/
LOCATION:Wytheville Golf Club\, 1325 W Lee Hwy\, Wytheville\, VA\, 24382\, United States
CATEGORIES:In-Person
ATTACH;FMTTYPE=image/png:https://nccagent.com/app/uploads/wytheville-1.png
END:VEVENT
END:VCALENDAR