BEGIN:VCALENDAR
VERSION:2.0
PRODID:-//NCC - ECPv6.15.20//NONSGML v1.0//EN
CALSCALE:GREGORIAN
METHOD:PUBLISH
X-WR-CALNAME:NCC
X-ORIGINAL-URL:https://nccagent.com
X-WR-CALDESC:Events for NCC
REFRESH-INTERVAL;VALUE=DURATION:PT1H
X-Robots-Tag:noindex
X-PUBLISHED-TTL:PT1H
BEGIN:VTIMEZONE
TZID:America/New_York
BEGIN:DAYLIGHT
TZOFFSETFROM:-0500
TZOFFSETTO:-0400
TZNAME:EDT
DTSTART:20220313T070000
END:DAYLIGHT
BEGIN:STANDARD
TZOFFSETFROM:-0400
TZOFFSETTO:-0500
TZNAME:EST
DTSTART:20221106T060000
END:STANDARD
BEGIN:DAYLIGHT
TZOFFSETFROM:-0500
TZOFFSETTO:-0400
TZNAME:EDT
DTSTART:20230312T070000
END:DAYLIGHT
BEGIN:STANDARD
TZOFFSETFROM:-0400
TZOFFSETTO:-0500
TZNAME:EST
DTSTART:20231105T060000
END:STANDARD
BEGIN:DAYLIGHT
TZOFFSETFROM:-0500
TZOFFSETTO:-0400
TZNAME:EDT
DTSTART:20240310T070000
END:DAYLIGHT
BEGIN:STANDARD
TZOFFSETFROM:-0400
TZOFFSETTO:-0500
TZNAME:EST
DTSTART:20241103T060000
END:STANDARD
END:VTIMEZONE
BEGIN:VEVENT
DTSTART;TZID=America/New_York:20230907T100000
DTEND;TZID=America/New_York:20230907T160000
DTSTAMP:20260421T013053
CREATED:20230504T200236Z
LAST-MODIFIED:20230725T191953Z
UID:10000040-1694080800-1694102400@nccagent.com
SUMMARY:Rollout Tour Wytheville
DESCRIPTION:Let’s meet up in Wytheville\, VA at the Wytheville Golf Club\, to discuss the newest in Medicare offerings with local carrier reps\, network with other area agents\, and have some fun! \nRegister Below!
URL:https://nccagent.com/ncc-events/rollout-tour-wytheville/
LOCATION:Wytheville Golf Club\, 1325 W Lee Hwy\, Wytheville\, VA\, 24382\, United States
CATEGORIES:In-Person
ATTACH;FMTTYPE=image/png:https://nccagent.com/app/uploads/wytheville-1.png
END:VEVENT
BEGIN:VEVENT
DTSTART;TZID=America/New_York:20230912T100000
DTEND;TZID=America/New_York:20230912T160000
DTSTAMP:20260421T013053
CREATED:20230509T174804Z
LAST-MODIFIED:20230824T160319Z
UID:10000042-1694512800-1694534400@nccagent.com
SUMMARY:Rollout Tour Macon
DESCRIPTION:Let’s meet up in Macon\, GA at the Piedmont Brewery and Kitchen\, to discuss the newest in Medicare products and services with local carrier reps\, network with other area agents\, and have some fun! \nRegister Below!
URL:https://nccagent.com/ncc-events/rollout-tour-macon/
LOCATION:Piedmont Brewery and Kitchen\, 450-B 3rd St\,\, Macon\, 31201\, United States
CATEGORIES:In-Person
ATTACH;FMTTYPE=image/png:https://nccagent.com/app/uploads/macon5-9.png
END:VEVENT
BEGIN:VEVENT
DTSTART;TZID=America/New_York:20230913T100000
DTEND;TZID=America/New_York:20230913T160000
DTSTAMP:20260421T013053
CREATED:20230509T182106Z
LAST-MODIFIED:20230830T163222Z
UID:10000043-1694599200-1694620800@nccagent.com
SUMMARY:Rollout Tour Gainesville
DESCRIPTION:Let’s connect in Gainesville\, GA at the Atlanta Botanical Garden\, GAINESVILLE to discuss the newest in Medicare offerings with local carrier reps\, network with other area agents\, and have some fun! \nRegister Below!
URL:https://nccagent.com/ncc-events/rollout-tour-gainesville/
LOCATION:Atlanta Botanical Garden\, GAINESVILLE\, 1911 Sweetbay Dr\,\, Gainesville\, GA\, 30501\, United States
CATEGORIES:In-Person
ATTACH;FMTTYPE=image/png:https://nccagent.com/app/uploads/gaines-rev.png
END:VEVENT
BEGIN:VEVENT
DTSTART;TZID=America/New_York:20230914T100000
DTEND;TZID=America/New_York:20230914T160000
DTSTAMP:20260421T013053
CREATED:20230509T192022Z
LAST-MODIFIED:20230725T195213Z
UID:10000044-1694685600-1694707200@nccagent.com
SUMMARY:Rollout Tour Johnson City 2023
DESCRIPTION:Join the NCC team and our local carrier reps at Johnson City Country Club\, in Johnson City\, TN to discuss the newest in Medicare products and services\, and network with other area agents! \nRegister Today!
URL:https://nccagent.com/ncc-events/rollout-tour-johnson-city-2023/
LOCATION:Johnson City Country Club\, 1901 E Unaka Ave\,\, Johnson City\, TN\, 37601\, United States
CATEGORIES:In-Person
ATTACH;FMTTYPE=image/png:https://nccagent.com/app/uploads/jc.png
END:VEVENT
BEGIN:VEVENT
DTSTART;TZID=America/New_York:20230919T110000
DTEND;TZID=America/New_York:20230919T170000
DTSTAMP:20260421T013053
CREATED:20230509T201942Z
LAST-MODIFIED:20230725T195402Z
UID:10000045-1695121200-1695142800@nccagent.com
SUMMARY:Rollout Tour Jackson
DESCRIPTION:Join us at the Fairview Inn and get to know the NCC team\, and local carrier reps. Learn more about the newest in Medicare products and services\, network with other area agents\, and have some fun! \nRegister Below!
URL:https://nccagent.com/ncc-events/rollout-tour-jackson/
LOCATION:Fairview Inn\, 734 Fairview St.\, Jackson\, MS\, 39202\, United States
CATEGORIES:In-Person
ATTACH;FMTTYPE=image/png:https://nccagent.com/app/uploads/jackson.png
END:VEVENT
BEGIN:VEVENT
DTSTART;TZID=America/New_York:20230921T100000
DTEND;TZID=America/New_York:20230921T160000
DTSTAMP:20260421T013053
CREATED:20230504T202543Z
LAST-MODIFIED:20230725T195531Z
UID:10000041-1695290400-1695312000@nccagent.com
SUMMARY:Rollout Tour Knoxville
DESCRIPTION:Meet the NCC team and carrier reps at our main office to learn all the details about the latest in Medicare products and services. Take advantage of the Q&A discussion to get answers to your questions. Enjoy lunch with us provided by Kelly’s Kitchen of Knoxville. \nRegister Below!
URL:https://nccagent.com/ncc-events/rollout-tour-knoxville/
LOCATION:National Contracting Center\, 10201 Parkside Dr\, Knoxville\, TN\, 37922\, United States
CATEGORIES:In-Person
ATTACH;FMTTYPE=image/png:https://nccagent.com/app/uploads/knoxville-1.png
END:VEVENT
BEGIN:VEVENT
DTSTART;TZID=America/New_York:20230929T110000
DTEND;TZID=America/New_York:20230929T120000
DTSTAMP:20260421T013053
CREATED:20230913T203617Z
LAST-MODIFIED:20230913T203617Z
UID:10000070-1695985200-1695988800@nccagent.com
SUMMARY:NCC September Agent Town Hall
DESCRIPTION:Join the NCC team and your fellow agents to discuss last minute AEP reminders. \nSign Up!
URL:https://nccagent.com/ncc-events/ncc-september-agent-town-hall/
CATEGORIES:Webinars
END:VEVENT
END:VCALENDAR