BEGIN:VCALENDAR
VERSION:2.0
PRODID:-//NCC - ECPv6.15.20//NONSGML v1.0//EN
CALSCALE:GREGORIAN
METHOD:PUBLISH
X-ORIGINAL-URL:https://nccagent.com
X-WR-CALDESC:Events for NCC
REFRESH-INTERVAL;VALUE=DURATION:PT1H
X-Robots-Tag:noindex
X-PUBLISHED-TTL:PT1H
BEGIN:VTIMEZONE
TZID:America/New_York
BEGIN:DAYLIGHT
TZOFFSETFROM:-0500
TZOFFSETTO:-0400
TZNAME:EDT
DTSTART:20230312T070000
END:DAYLIGHT
BEGIN:STANDARD
TZOFFSETFROM:-0400
TZOFFSETTO:-0500
TZNAME:EST
DTSTART:20231105T060000
END:STANDARD
BEGIN:DAYLIGHT
TZOFFSETFROM:-0500
TZOFFSETTO:-0400
TZNAME:EDT
DTSTART:20240310T070000
END:DAYLIGHT
BEGIN:STANDARD
TZOFFSETFROM:-0400
TZOFFSETTO:-0500
TZNAME:EST
DTSTART:20241103T060000
END:STANDARD
BEGIN:DAYLIGHT
TZOFFSETFROM:-0500
TZOFFSETTO:-0400
TZNAME:EDT
DTSTART:20250309T070000
END:DAYLIGHT
BEGIN:STANDARD
TZOFFSETFROM:-0400
TZOFFSETTO:-0500
TZNAME:EST
DTSTART:20251102T060000
END:STANDARD
END:VTIMEZONE
BEGIN:VEVENT
DTSTART;TZID=America/New_York:20240125T140000
DTEND;TZID=America/New_York:20240125T150000
DTSTAMP:20260420T191502
CREATED:20240111T150211Z
LAST-MODIFIED:20240620T014936Z
UID:10000095-1706191200-1706194800@nccagent.com
SUMMARY:New Agent Onboarding Part 1 - Welcome to NCC
DESCRIPTION:Welcome to NCC – Join us every last Thursday of the month as our sales development team welcomes you to NCC. Part 1 of our New Agent Onboarding Series is your introduction to the team\, offering insights into how we can support your business growth. Explore a comprehensive overview of the myriad tools and resources at your disposal within the NCC ecosystem\, ensuring you are equipped for success. \n\nSecure your spot below. We can’t wait to connect with you soon! \n  \n\n\n\n\n 
URL:https://nccagent.com/ncc-events/new-agent-onboarding-part-1-welcome-to-ncc/2024-01-25/
LOCATION:Online
CATEGORIES:Webinars
END:VEVENT
BEGIN:VEVENT
DTSTART;TZID=America/New_York:20240131T110000
DTEND;TZID=America/New_York:20240131T120000
DTSTAMP:20260420T191502
CREATED:20231220T195039Z
LAST-MODIFIED:20240620T014942Z
UID:10000074-1706698800-1706702400@nccagent.com
SUMMARY:Town Hall
DESCRIPTION:Join us for an upcoming Town Hall event that promises to be engaging and insightful. This is your chance to unite with us\, exchange valuable insights\, and delve into the latest Medicare topics shaping our discussions. \nSecure your spot for this month’s Town Hall by signing up here. We can’t wait to connect with you soon! \n  \n Register Now\n  \n 
URL:https://nccagent.com/ncc-events/town-hall/
LOCATION:Online
CATEGORIES:Webinars
END:VEVENT
END:VCALENDAR